BEGIN:VCALENDAR
VERSION:2.0
PRODID:-//Hollywood Forever - ECPv6.15.20//NONSGML v1.0//EN
CALSCALE:GREGORIAN
METHOD:PUBLISH
X-WR-CALNAME:Hollywood Forever
X-ORIGINAL-URL:https://hollywoodforever.com
X-WR-CALDESC:Events for Hollywood Forever
REFRESH-INTERVAL;VALUE=DURATION:PT1H
X-Robots-Tag:noindex
X-PUBLISHED-TTL:PT1H
BEGIN:VTIMEZONE
TZID:America/Los_Angeles
BEGIN:DAYLIGHT
TZOFFSETFROM:-0800
TZOFFSETTO:-0700
TZNAME:PDT
DTSTART:20240310T100000
END:DAYLIGHT
BEGIN:STANDARD
TZOFFSETFROM:-0700
TZOFFSETTO:-0800
TZNAME:PST
DTSTART:20241103T090000
END:STANDARD
BEGIN:DAYLIGHT
TZOFFSETFROM:-0800
TZOFFSETTO:-0700
TZNAME:PDT
DTSTART:20250309T100000
END:DAYLIGHT
BEGIN:STANDARD
TZOFFSETFROM:-0700
TZOFFSETTO:-0800
TZNAME:PST
DTSTART:20251102T090000
END:STANDARD
BEGIN:DAYLIGHT
TZOFFSETFROM:-0800
TZOFFSETTO:-0700
TZNAME:PDT
DTSTART:20260308T100000
END:DAYLIGHT
BEGIN:STANDARD
TZOFFSETFROM:-0700
TZOFFSETTO:-0800
TZNAME:PST
DTSTART:20261101T090000
END:STANDARD
END:VTIMEZONE
BEGIN:VEVENT
DTSTART;TZID=America/Los_Angeles:20250802T184500
DTEND;TZID=America/Los_Angeles:20250802T233000
DTSTAMP:20260419T111434
CREATED:20250630T194901Z
LAST-MODIFIED:20250630T194901Z
UID:142793-1754160300-1754177400@hollywoodforever.com
SUMMARY:Point Break
DESCRIPTION:Directed by Kathryn Bigelow (1991\, 122 minutes)\nGates at 6:45pm / Show at 8:30pm \nGet ready to ride the wave of 100% pure adrenaline—Point Break brings big surf\, bigger stunts\, and the most philosophical bank robbers you’ve ever met. Keanu’s FBI agent goes deep undercover\, but it’s Patrick Swayze’s zen outlaw Bodhi who steals the show (and the vault). Keanu’s rookie FBI agent chases the rush and maybe\, just maybe\, finds himself in the curl. It’s a tale of crime\, loyalty\, and catching the perfect wave at the perfect moment. Pack your picnic or let us supply everything\, except for the Nixon mask.
URL:https://hollywoodforever.com/event/point-break/
LOCATION:Hollywood Forever\, 6000 Santa Monica Blvd\, Los Angeles\, CA\, 90038\, United States
ATTACH;FMTTYPE=image/jpeg:https://hollywoodforever.com/wp-content/uploads/2025/06/point-break-main.jpg
END:VEVENT
BEGIN:VEVENT
DTSTART;TZID=America/Los_Angeles:20250806T200000
DTEND;TZID=America/Los_Angeles:20250806T223000
DTSTAMP:20260419T111434
CREATED:20250611T140007Z
LAST-MODIFIED:20250806T191622Z
UID:141968-1754510400-1754519400@hollywoodforever.com
SUMMARY:John Maus
DESCRIPTION:8PM DOORS
URL:https://hollywoodforever.com/event/john-maus-2/
LOCATION:The Masonic Lodge at Hollywood Forever\, 5970 Santa Monica Blvd\, Los Angeles\, CA\, 90038\, United States
ATTACH;FMTTYPE=image/jpeg:https://hollywoodforever.com/wp-content/uploads/2025/06/1200w-2.jpg
ORGANIZER;CN="Hollywood Forever presents":MAILTO:events@hollywoodforever.com
END:VEVENT
BEGIN:VEVENT
DTSTART;TZID=America/Los_Angeles:20250807T200000
DTEND;TZID=America/Los_Angeles:20250807T233000
DTSTAMP:20260419T111434
CREATED:20250617T190421Z
LAST-MODIFIED:20250806T191712Z
UID:142294-1754596800-1754609400@hollywoodforever.com
SUMMARY:Big Freedia
DESCRIPTION:8PM DOORS
URL:https://hollywoodforever.com/event/big-freedia/
LOCATION:CA
ATTACH;FMTTYPE=image/jpeg:https://hollywoodforever.com/wp-content/uploads/2025/06/1200X800.jpg
END:VEVENT
BEGIN:VEVENT
DTSTART;TZID=America/Los_Angeles:20250809T184500
DTEND;TZID=America/Los_Angeles:20250809T233000
DTSTAMP:20260419T111434
CREATED:20250630T195132Z
LAST-MODIFIED:20250806T193126Z
UID:142797-1754765100-1754782200@hollywoodforever.com
SUMMARY:Full Moon Slumber Party: The Lost Boys + An American Werewolf in London
DESCRIPTION:Gates at 6:45pm / Show at 8:30pm \nPicnic all day and slumber party ’til the creatures come out—because it’s a full moon\, a blue moon\, and a supermoon all rolled into one wild night with giveaways\, surprises\, dance parties\, and photo moments. Celebrate with vampires\, werewolves\, and two of the coolest\, creepiest cult classics ever made. Some nights were made for monsters. \nFirst up\, The Lost Boys serves mullets\, motorcycle gangs\, and Kiefer Sutherland smolder with a side of garlic. A sax solo under the stars? Yes\, please! Next\, An American Werewolf in London unleashes iconic transformation scenes\, spooky moors\, and just enough chaos to ruin any backpacking trip. Grab your blanket\, dress for the darkness\, and get ready for a night that totally bites.
URL:https://hollywoodforever.com/event/full-moon-slumber-party-the-lost-boys-an-american-werewolf-in-london/
LOCATION:Hollywood Forever\, 6000 Santa Monica Blvd\, Los Angeles\, CA\, 90038\, United States
ATTACH;FMTTYPE=image/jpeg:https://hollywoodforever.com/wp-content/uploads/2025/06/lost-boys-slumber-tw-update.jpg
END:VEVENT
BEGIN:VEVENT
DTSTART;TZID=America/Los_Angeles:20250816T184500
DTEND;TZID=America/Los_Angeles:20250816T233000
DTSTAMP:20260419T111434
CREATED:20250630T195352Z
LAST-MODIFIED:20250806T202521Z
UID:142801-1755369900-1755387000@hollywoodforever.com
SUMMARY:Zoolander
DESCRIPTION:Directed by Ben Stiller (2001\, 89 minutes)\nGates at 6:45pm / Show at 8:30pm \nThings are about to get so hot—Zoolander is coming to Hollywood Forever Cemetery for a night of glam\, glitter\, and glorious nonsense. Derek\, Hansel\, and Mugatu make fashion dumb\, dangerous\, and downright hilarious. You’ll laugh\, you’ll pose\, you’ll maybe try to pronounce “eugoogly.” Expect outrageous outfits\, shoutable quotes\, abs\, absurdity\, and Aqua Net. Bring your best Blue Steel and let’s make the cemetery runway-ready.
URL:https://hollywoodforever.com/event/zoolander/
LOCATION:Hollywood Forever\, 6000 Santa Monica Blvd\, Los Angeles\, CA\, 90038\, United States
ATTACH;FMTTYPE=image/jpeg:https://hollywoodforever.com/wp-content/uploads/2025/06/zoolander-main.jpg
END:VEVENT
BEGIN:VEVENT
DTSTART;TZID=America/Los_Angeles:20250823T120000
DTEND;TZID=America/Los_Angeles:20250823T130000
DTSTAMP:20260419T111434
CREATED:20250725T204328Z
LAST-MODIFIED:20250821T202944Z
UID:144336-1755950400-1755954000@hollywoodforever.com
SUMMARY:98th Annual Valentino Memorial Service
DESCRIPTION:The 98th Annual Valentino Memorial Service\, Saturday\, August 23rd at Noon will NOW BE HELD IN OUR MAIN CHAPEL\,  due to the extreme heat expected. \nThroughout generations\, the legacy of Rudolph Valentino continues to thrive. This year’s memorial will celebrate the 100th anniversary of his film\, “The Eagle”\, plus we will get to know a bit more about June Mathis\, a pioneering and influential film executive who helped launch Valentino into stardom. Author\, Thomas J. Slater\, will speak on his new book about Ms. Mathis\, and be on hand after the memorial for a book signing. We will also learn about the Los Angeles Breakfast Club\, of which Valentino was a founding member. 2025 marks their 100th anniversary\, and Rachel Skytt will share a bit about its history and its present day activities. \nWe hope you’ll join us as we celebrate the life and work of Rudolph Valentino with these very special guest speakers\, live music\, video presentations\, and of course “The Lady in Black”.
URL:https://hollywoodforever.com/event/98th-annual-valentino-memorial-service/
LOCATION:Hollywood Forever\, 6000 Santa Monica Blvd\, Los Angeles\, CA\, 90038\, United States
ATTACH;FMTTYPE=image/jpeg:https://hollywoodforever.com/wp-content/uploads/2025/07/Valentino-Eagle.jpg
ORGANIZER;CN="Hollywood Forever presents":MAILTO:events@hollywoodforever.com
END:VEVENT
BEGIN:VEVENT
DTSTART;TZID=America/Los_Angeles:20250823T184500
DTEND;TZID=America/Los_Angeles:20250823T233000
DTSTAMP:20260419T111434
CREATED:20250630T195524Z
LAST-MODIFIED:20250806T202645Z
UID:142805-1755974700-1755991800@hollywoodforever.com
SUMMARY:Psycho
DESCRIPTION:Directed by Alfred Hitchcock\nGates at 6:45pm / Show at 8:30pm \nYou’re cordially invited to the infamous Bates Motel\, where there’s always a vacancy and Mother knows best. Join us for a Hitchcockian night of spine-tingling suspense\, shrieking strings\, and the shower scene that made everyone rethink bath time. With unforgettable performances from Anthony Perkins\, Janet Leigh\, and Vera Miles\, this is the mother of all thrillers—and it’s never looked better under the stars. Bring your best friend\, whether or not it’s your mom. Check in\, if you dare.
URL:https://hollywoodforever.com/event/psycho/
LOCATION:Hollywood Forever\, 6000 Santa Monica Blvd\, Los Angeles\, CA\, 90038\, United States
ATTACH;FMTTYPE=image/jpeg:https://hollywoodforever.com/wp-content/uploads/2025/06/psycho-main-2.jpg
END:VEVENT
BEGIN:VEVENT
DTSTART;TZID=America/Los_Angeles:20250828T183000
DTEND;TZID=America/Los_Angeles:20250828T233000
DTSTAMP:20260419T111434
CREATED:20250828T173047Z
LAST-MODIFIED:20250828T173047Z
UID:145626-1756405800-1756423800@hollywoodforever.com
SUMMARY:PRIVATE EVENT
DESCRIPTION:
URL:https://hollywoodforever.com/event/private-event-24/
LOCATION:Hollywood Forever\, 6000 Santa Monica Blvd\, Los Angeles\, CA\, 90038\, United States
END:VEVENT
BEGIN:VEVENT
DTSTART;TZID=America/Los_Angeles:20250830T181500
DTEND;TZID=America/Los_Angeles:20250830T233000
DTSTAMP:20260419T111434
CREATED:20250722T142719Z
LAST-MODIFIED:20250806T202727Z
UID:144252-1756577700-1756596600@hollywoodforever.com
SUMMARY:The Princess Bride
DESCRIPTION:Directed by Rob Reiner (1987\, 98 minutes)\ngates at 6:15pm / movie at 8:00pm \nA farm boy\, a princess\, a six-fingered man\, and the most charming revenge plot ever told—The Princess Bride is a storybook come to life. Westley (Cary Elwes) faces cliffs\, pirates\, and death itself to save Buttercup (Robin Wright)\, all while looking extremely good in a mask. Inigo Montoya has one mission\, Miracle Max has one cure\, and Vizzini has one word: “Inconceivable!” As you wish…this one’s a classic. Free Photobooth\, Bar\, Grill and DJs before the movie.
URL:https://hollywoodforever.com/event/the-princess-bride/
LOCATION:Hollywood Forever\, 6000 Santa Monica Blvd\, Los Angeles\, CA\, 90038\, United States
ATTACH;FMTTYPE=image/png:https://hollywoodforever.com/wp-content/uploads/2025/07/pb_main.png
END:VEVENT
BEGIN:VEVENT
DTSTART;TZID=America/Los_Angeles:20250831T181500
DTEND;TZID=America/Los_Angeles:20250831T233000
DTSTAMP:20260419T111434
CREATED:20250722T142955Z
LAST-MODIFIED:20250806T202821Z
UID:144256-1756664100-1756683000@hollywoodforever.com
SUMMARY:The Silence of the Lambs
DESCRIPTION:Directed by Jonathan Demme (1991\, 138 minutes)\nGates at 6:45pm / Show at 8:30pm \nClarice is just trying to climb the FBI ladder—unfortunately\, her mentor is a cannibal. The Silence of the Lambs serves fava beans\, fine Chianti\, and five Academy Awards\, all wrapped in one elegant psychological nightmare. Lecter is charming\, Buffalo Bill is lotion-obsessed\, and the suspense could filet you on the spot. A true cinematic delicacy—best consumed with friends under the stars. Free Photobooth\, Bar\, Grill and DJs before the movie.
URL:https://hollywoodforever.com/event/the-silence-of-the-lambs/
LOCATION:Hollywood Forever\, 6000 Santa Monica Blvd\, Los Angeles\, CA\, 90038\, United States
ATTACH;FMTTYPE=image/jpeg:https://hollywoodforever.com/wp-content/uploads/2025/07/silence-of-the-lambs-email.jpg
END:VEVENT
END:VCALENDAR