BEGIN:VCALENDAR
VERSION:2.0
PRODID:-//Hollywood Forever - ECPv6.15.20//NONSGML v1.0//EN
CALSCALE:GREGORIAN
METHOD:PUBLISH
X-ORIGINAL-URL:https://hollywoodforever.com
X-WR-CALDESC:Events for Hollywood Forever
REFRESH-INTERVAL;VALUE=DURATION:PT1H
X-Robots-Tag:noindex
X-PUBLISHED-TTL:PT1H
BEGIN:VTIMEZONE
TZID:America/Los_Angeles
BEGIN:DAYLIGHT
TZOFFSETFROM:-0800
TZOFFSETTO:-0700
TZNAME:PDT
DTSTART:20240310T100000
END:DAYLIGHT
BEGIN:STANDARD
TZOFFSETFROM:-0700
TZOFFSETTO:-0800
TZNAME:PST
DTSTART:20241103T090000
END:STANDARD
BEGIN:DAYLIGHT
TZOFFSETFROM:-0800
TZOFFSETTO:-0700
TZNAME:PDT
DTSTART:20250309T100000
END:DAYLIGHT
BEGIN:STANDARD
TZOFFSETFROM:-0700
TZOFFSETTO:-0800
TZNAME:PST
DTSTART:20251102T090000
END:STANDARD
BEGIN:DAYLIGHT
TZOFFSETFROM:-0800
TZOFFSETTO:-0700
TZNAME:PDT
DTSTART:20260308T100000
END:DAYLIGHT
BEGIN:STANDARD
TZOFFSETFROM:-0700
TZOFFSETTO:-0800
TZNAME:PST
DTSTART:20261101T090000
END:STANDARD
END:VTIMEZONE
BEGIN:VEVENT
DTSTART;TZID=America/Los_Angeles:20250704T191500
DTEND;TZID=America/Los_Angeles:20250704T233000
DTSTAMP:20260419T130348
CREATED:20250528T182647Z
LAST-MODIFIED:20250528T182647Z
UID:139420-1751656500-1751671800@hollywoodforever.com
SUMMARY:Top Gun + Fireworks
DESCRIPTION:Directed by Tony Scott (1986\, 110 minutes)\ngates: 7:15pm / movie: 9pm \nFeel the need for speed\, Maverick? Strap in\, hit play on “Danger Zone\,” and prepare for lift-off. Top Gun is soaring back into our hearts du this Fourth of July with fireworks (literal and emotional). Cruise is at peak charm\, Goose is everyone’s dream best friend\, and yes\, we will all sing along to “You’ve Lost That Lovin’ Feelin’” Grab your aviators and someone to high five. Warning: prolonged exposure may cause the urge to play shirtless volleyball.
URL:https://hollywoodforever.com/event/top-gun-fireworks/
LOCATION:Hollywood Forever\, 6000 Santa Monica Blvd\, Los Angeles\, CA\, 90038\, United States
ATTACH;FMTTYPE=image/jpeg:https://hollywoodforever.com/wp-content/uploads/2025/05/top-gun-main.jpg
END:VEVENT
BEGIN:VEVENT
DTSTART;TZID=America/Los_Angeles:20250705T191500
DTEND;TZID=America/Los_Angeles:20250705T233000
DTSTAMP:20260419T130348
CREATED:20250528T182820Z
LAST-MODIFIED:20250528T182820Z
UID:139424-1751742900-1751758200@hollywoodforever.com
SUMMARY:La La Land + Fireworks
DESCRIPTION:Directed by Damien Chazelle (2106\, 128 minutes)\ngates: 7:15pm / movie: 9pm \nHere’s to the fools who dream — and to anyone who’s ever tap-danced through a traffic jam. LA LA LAND lights up Independence Day Weekend with jazz\, longing\, and a Cinemascope sky full of stars (and now fireworks too!). Rebel in a night that’s Singin’ in the Rain sweetness by way of Silver Lake. Bring tissues\, wear something luminous\, and don’t look directly into Ryan Gosling’s smolder.
URL:https://hollywoodforever.com/event/la-la-land-fireworks/
LOCATION:Hollywood Forever\, 6000 Santa Monica Blvd\, Los Angeles\, CA\, 90038\, United States
ATTACH;FMTTYPE=image/jpeg:https://hollywoodforever.com/wp-content/uploads/2025/05/la-la-land-main.jpg
END:VEVENT
BEGIN:VEVENT
DTSTART;TZID=America/Los_Angeles:20250712T191500
DTEND;TZID=America/Los_Angeles:20250712T233000
DTSTAMP:20260419T130348
CREATED:20250528T182951Z
LAST-MODIFIED:20250528T182951Z
UID:139429-1752347700-1752363000@hollywoodforever.com
SUMMARY:IT
DESCRIPTION:Directed by Andrés Muschietti (2017\, 135 minutes)\ngates: 7:15pm / movie: 9pm \nFloat with us under the stars—just don’t follow any red balloons. IT turns childhood fears into cinematic thrills\, with Pennywise serving clown-core terror with bikes\, blood\, and a whole lot of balloons. The Losers’ Club will win your heart while Pennywise tries to eat it. Don’t worry—you’ll float too.
URL:https://hollywoodforever.com/event/it/
LOCATION:Hollywood Forever\, 6000 Santa Monica Blvd\, Los Angeles\, CA\, 90038\, United States
ATTACH;FMTTYPE=image/jpeg:https://hollywoodforever.com/wp-content/uploads/2025/05/it-2017-main-1.jpg
END:VEVENT
BEGIN:VEVENT
DTSTART;TZID=America/Los_Angeles:20250718T200000
DTEND;TZID=America/Los_Angeles:20250718T220000
DTSTAMP:20260419T130348
CREATED:20250715T230004Z
LAST-MODIFIED:20250716T173518Z
UID:143951-1752868800-1752876000@hollywoodforever.com
SUMMARY:RUEL - THE TIME + THE PLACE
DESCRIPTION:8PM DOORS \n9PM SHOW
URL:https://hollywoodforever.com/event/the-time-the-place/
LOCATION:The Masonic Lodge at Hollywood Forever\, 5970 Santa Monica Blvd\, Los Angeles\, CA\, 90038\, United States
ATTACH;FMTTYPE=image/jpeg:https://hollywoodforever.com/wp-content/uploads/2025/07/1200W-1.jpg
ORGANIZER;CN="Hollywood Forever presents":MAILTO:events@hollywoodforever.com
END:VEVENT
BEGIN:VEVENT
DTSTART;TZID=America/Los_Angeles:20250719T191500
DTEND;TZID=America/Los_Angeles:20250719T233000
DTSTAMP:20260419T130348
CREATED:20250528T183139Z
LAST-MODIFIED:20250528T183139Z
UID:139434-1752952500-1752967800@hollywoodforever.com
SUMMARY:Romy and Michele's High School Reunion
DESCRIPTION:Directed by David Mirkin (1997\, 92 minutes)\nGates – 7:15pm / Movie – 9pm \nWhether you’re a Romy or a Michele\, a Mary or a Rhoda\, reunite with the quirkiest 90s fashionistas in a flirty\, frisky world of their own. The road back to high school is neon-colored for two best friends who may or may not have invented Post-Its. Can a convertible and a flip phone fool the popular girls that made high school a living hell?
URL:https://hollywoodforever.com/event/romy-and-micheles-high-school-reunion-2/
LOCATION:Hollywood Forever\, 6000 Santa Monica Blvd\, Los Angeles\, CA\, 90038\, United States
ATTACH;FMTTYPE=image/jpeg:https://hollywoodforever.com/wp-content/uploads/2025/05/romy-main.jpg
END:VEVENT
BEGIN:VEVENT
DTSTART;TZID=America/Los_Angeles:20250720T220000
DTEND;TZID=America/Los_Angeles:20250720T233000
DTSTAMP:20260419T130348
CREATED:20250720T225857Z
LAST-MODIFIED:20250720T235425Z
UID:143977-1753048800-1753054200@hollywoodforever.com
SUMMARY:SOLD OUT - DON'T COME IF YOU AREN'T GOING TO DANCE
DESCRIPTION:TICKETS ARE SOLD OUT. DO NOT COME UNLESS YOU HAVE A VALID CONFIRMATION EMAIL FROM TICKETWEB.\n\nTHIS IS A WILL CALL-ONLY SHOW.\nTHERE WILL BE NO TICKETS SOLD OR ISSUED AT THE DOOR.\nTICKETS MUST BE PURCHASED ONLINE.\n\nDO NOT COME UNLESS YOU HAVE A VALID CONFIRMATION EMAIL FROM TICKETWEB.\nYOU WILL BE REQUIRED TO SHOW VALID ID THAT MATCHES THE NAME AT WILL CALL.\nIF YOUR ID DOES NOT MATCH THE NAME IN OUR SYSTEM\, YOU WILL NOT BE ADMITTED INTO THE EVENT.\n\nTHIS EVENT IS NOT A LIVE PERFORMANCE\n\nNO TRANSFERS - NO EXCEPTIONS\n\nLIMIT 2 TICKETS PER HOUSEHOLD / CUSTOMER / EMAIL / ACCOUNT / CC / ADDRESS\n\nPURCHASES THAT EXCEED THE 2 SPOT LIMIT WILL HAVE ALL ORDERS CANCELLED\n\nDO NOT PURCHASE FROM RESELLERS - YOU WILL NOT BE ADMITTED\n\nNO STANDBY LINE\n\nNO ONSITE PARKING\n\nNO LINING UP UNTIL 8PM\n\nNO BACKPACKS OR LARGE BAGS\n\nNO CAMERAS\n\nNO RECORDING DEVICES\n\n21 & OVER ONLY
URL:https://hollywoodforever.com/event/dont-come-if-you-arent-going-to-dance/
LOCATION:The Masonic Lodge at Hollywood Forever\, 5970 Santa Monica Blvd\, Los Angeles\, CA\, 90038\, United States
ORGANIZER;CN="Hollywood Forever presents":MAILTO:events@hollywoodforever.com
END:VEVENT
BEGIN:VEVENT
DTSTART;TZID=America/Los_Angeles:20250721T200000
DTEND;TZID=America/Los_Angeles:20250721T220000
DTSTAMP:20260419T130348
CREATED:20250610T155921Z
LAST-MODIFIED:20250609T225421Z
UID:141964-1753128000-1753135200@hollywoodforever.com
SUMMARY:Michael Marcagi
DESCRIPTION:8PM DOORS
URL:https://hollywoodforever.com/event/michael-marcagi/
LOCATION:The Masonic Lodge at Hollywood Forever\, 5970 Santa Monica Blvd\, Los Angeles\, CA\, 90038\, United States
ATTACH;FMTTYPE=image/jpeg:https://hollywoodforever.com/wp-content/uploads/2025/06/1200W-1.jpg
ORGANIZER;CN="Hollywood Forever presents":MAILTO:events@hollywoodforever.com
END:VEVENT
BEGIN:VEVENT
DTSTART;TZID=America/Los_Angeles:20250725T200000
DTEND;TZID=America/Los_Angeles:20250725T223000
DTSTAMP:20260419T130348
CREATED:20250522T231219Z
LAST-MODIFIED:20250722T183501Z
UID:139135-1753473600-1753482600@hollywoodforever.com
SUMMARY:Natalie Bergman w Rio Kosta
DESCRIPTION:8PM DOORS
URL:https://hollywoodforever.com/event/natalie-bergman/
LOCATION:The Masonic Lodge at Hollywood Forever\, 5970 Santa Monica Blvd\, Los Angeles\, CA\, 90038\, United States
ATTACH;FMTTYPE=image/jpeg:https://hollywoodforever.com/wp-content/uploads/2025/05/1200W.jpg
END:VEVENT
BEGIN:VEVENT
DTSTART;TZID=America/Los_Angeles:20250726T191500
DTEND;TZID=America/Los_Angeles:20250726T233000
DTSTAMP:20260419T130348
CREATED:20250528T183422Z
LAST-MODIFIED:20250528T183422Z
UID:139438-1753557300-1753572600@hollywoodforever.com
SUMMARY:The Addams Family
DESCRIPTION:gates at 7:15pm / film at 9pm \nSnap twice and step into a night of spooky-chic fun with everyone’s favorite delightfully demented family. The Addams Family serves up graveyard giggles\, morbid one-liners\, and enough gothic glam to make your heart glow black. Wednesday is sharp as a guillotine\, Uncle Fester is back from the dead (maybe)\, and Gomez is madly in love. Bring your weirdest friends and get ready to feel right at home.
URL:https://hollywoodforever.com/event/the-addams-family-2/
LOCATION:Hollywood Forever\, 6000 Santa Monica Blvd\, Los Angeles\, CA\, 90038\, United States
ATTACH;FMTTYPE=image/png:https://hollywoodforever.com/wp-content/uploads/2025/05/AF_main-copy.png
END:VEVENT
END:VCALENDAR