BEGIN:VCALENDAR
VERSION:2.0
PRODID:-//Hollywood Forever - ECPv6.15.20//NONSGML v1.0//EN
CALSCALE:GREGORIAN
METHOD:PUBLISH
X-WR-CALNAME:Hollywood Forever
X-ORIGINAL-URL:https://hollywoodforever.com
X-WR-CALDESC:Events for Hollywood Forever
REFRESH-INTERVAL;VALUE=DURATION:PT1H
X-Robots-Tag:noindex
X-PUBLISHED-TTL:PT1H
BEGIN:VTIMEZONE
TZID:America/Los_Angeles
BEGIN:DAYLIGHT
TZOFFSETFROM:-0800
TZOFFSETTO:-0700
TZNAME:PDT
DTSTART:20240310T100000
END:DAYLIGHT
BEGIN:STANDARD
TZOFFSETFROM:-0700
TZOFFSETTO:-0800
TZNAME:PST
DTSTART:20241103T090000
END:STANDARD
BEGIN:DAYLIGHT
TZOFFSETFROM:-0800
TZOFFSETTO:-0700
TZNAME:PDT
DTSTART:20250309T100000
END:DAYLIGHT
BEGIN:STANDARD
TZOFFSETFROM:-0700
TZOFFSETTO:-0800
TZNAME:PST
DTSTART:20251102T090000
END:STANDARD
BEGIN:DAYLIGHT
TZOFFSETFROM:-0800
TZOFFSETTO:-0700
TZNAME:PDT
DTSTART:20260308T100000
END:DAYLIGHT
BEGIN:STANDARD
TZOFFSETFROM:-0700
TZOFFSETTO:-0800
TZNAME:PST
DTSTART:20261101T090000
END:STANDARD
END:VTIMEZONE
BEGIN:VEVENT
DTSTART;TZID=America/Los_Angeles:20250301T190000
DTEND;TZID=America/Los_Angeles:20250301T220000
DTSTAMP:20260419T203130
CREATED:20250205T222904Z
LAST-MODIFIED:20250205T222904Z
UID:135394-1740855600-1740866400@hollywoodforever.com
SUMMARY:Rodrigo Amarante
DESCRIPTION:7PM DOORS
URL:https://hollywoodforever.com/event/rodrigo-amarante-2/
LOCATION:The Masonic Lodge at Hollywood Forever\, 5970 Santa Monica Blvd\, Los Angeles\, CA\, 90038\, United States
ATTACH;FMTTYPE=image/jpeg:https://hollywoodforever.com/wp-content/uploads/2024/12/USE-THIS_Rodrigo-Amarante-by-Tim-Bernardes_1080X1350.jpg
ORGANIZER;CN="Hollywood Forever presents":MAILTO:events@hollywoodforever.com
END:VEVENT
BEGIN:VEVENT
DTSTART;TZID=America/Los_Angeles:20250318T190000
DTEND;TZID=America/Los_Angeles:20250318T220000
DTSTAMP:20260419T203130
CREATED:20250129T170010Z
LAST-MODIFIED:20250129T182518Z
UID:135330-1742324400-1742335200@hollywoodforever.com
SUMMARY:Mac Ayres - The Piano Tour
DESCRIPTION:7PM DOORS
URL:https://hollywoodforever.com/event/mac-ayers-the-piano-tour/
LOCATION:The Masonic Lodge at Hollywood Forever\, 5970 Santa Monica Blvd\, Los Angeles\, CA\, 90038\, United States
ATTACH;FMTTYPE=image/jpeg:https://hollywoodforever.com/wp-content/uploads/2025/01/MAX-AYERS_1200W.jpg
ORGANIZER;CN="Hollywood Forever presents":MAILTO:events@hollywoodforever.com
END:VEVENT
BEGIN:VEVENT
DTSTART;TZID=America/Los_Angeles:20250319T190000
DTEND;TZID=America/Los_Angeles:20250319T220000
DTSTAMP:20260419T203130
CREATED:20250129T230732Z
LAST-MODIFIED:20250129T230732Z
UID:135363-1742410800-1742421600@hollywoodforever.com
SUMMARY:Mac Ayres - The Piano Tour
DESCRIPTION:7PM DOORS
URL:https://hollywoodforever.com/event/mac-ayres-the-piano-tour/
LOCATION:The Masonic Lodge at Hollywood Forever\, 5970 Santa Monica Blvd\, Los Angeles\, CA\, 90038\, United States
ATTACH;FMTTYPE=image/jpeg:https://hollywoodforever.com/wp-content/uploads/2025/01/MAX-AYERS_1200W-1.jpg
ORGANIZER;CN="Hollywood Forever presents":MAILTO:events@hollywoodforever.com
END:VEVENT
BEGIN:VEVENT
DTSTART;TZID=America/Los_Angeles:20250321T190000
DTEND;TZID=America/Los_Angeles:20250321T220000
DTSTAMP:20260419T203130
CREATED:20250131T184443Z
LAST-MODIFIED:20250131T184443Z
UID:135368-1742583600-1742594400@hollywoodforever.com
SUMMARY:Mac Ayres - The Piano Tour
DESCRIPTION:7PM DOORS
URL:https://hollywoodforever.com/event/mac-ayres-the-piano-tour-2/
LOCATION:The Masonic Lodge at Hollywood Forever\, 5970 Santa Monica Blvd\, Los Angeles\, CA\, 90038\, United States
ATTACH;FMTTYPE=image/jpeg:https://hollywoodforever.com/wp-content/uploads/2025/01/MAX-AYERS_1200W-1.jpg
ORGANIZER;CN="Hollywood Forever presents":MAILTO:events@hollywoodforever.com
END:VEVENT
BEGIN:VEVENT
DTSTART;TZID=America/Los_Angeles:20250322T190000
DTEND;TZID=America/Los_Angeles:20250322T220000
DTSTAMP:20260419T203130
CREATED:20250203T173606Z
LAST-MODIFIED:20250203T173606Z
UID:135386-1742670000-1742680800@hollywoodforever.com
SUMMARY:Mac Ayres - The Piano Tour
DESCRIPTION:7PM DOORS
URL:https://hollywoodforever.com/event/mac-ayres-the-piano-tour-3/
LOCATION:The Masonic Lodge at Hollywood Forever\, 5970 Santa Monica Blvd\, Los Angeles\, CA\, 90038\, United States
ATTACH;FMTTYPE=image/jpeg:https://hollywoodforever.com/wp-content/uploads/2025/01/MAX-AYERS_1200W-1.jpg
ORGANIZER;CN="Hollywood Forever presents":MAILTO:events@hollywoodforever.com
END:VEVENT
BEGIN:VEVENT
DTSTART;TZID=America/Los_Angeles:20250328T190000
DTEND;TZID=America/Los_Angeles:20250328T210000
DTSTAMP:20260419T203130
CREATED:20250325T223017Z
LAST-MODIFIED:20250325T222219Z
UID:136866-1743188400-1743195600@hollywoodforever.com
SUMMARY:Jessie Reyez
DESCRIPTION:6PM FREE ONSITE PARKING OPENS\n7PM DOORS\n8PM JESSIE REYEZ \n*** WILL CALL ONLY SHOW ***\n*** NO TICKETS WILL BE ISSUED *** \nORIGINAL PURCHASER MUST BE PRESENT AT SHOW\, SHOW THEIR VALID PHOTO ID MATCHING THE TICKETWEB PURCHASERS LIST\, AND USE ONE OF THEIR SPOTS TO ENTER THE VENUE \nNO TRANSFERS – NO EXCEPTIONS \nLimit 2 per household / customer / email / account / CC / address \nPurchases that exceed the 2-spot limit will be cancelled \nOrders listed for resale will be cancelled without notice
URL:https://hollywoodforever.com/event/jessie-reyez/
LOCATION:The Masonic Lodge at Hollywood Forever\, 5970 Santa Monica Blvd\, Los Angeles\, CA\, 90038\, United States
ATTACH;FMTTYPE=image/jpeg:https://hollywoodforever.com/wp-content/uploads/2025/03/JESSIE_PAID-UNDERPLAY_1200x1500.jpg
ORGANIZER;CN="Hollywood Forever presents":MAILTO:events@hollywoodforever.com
END:VEVENT
END:VCALENDAR