BEGIN:VCALENDAR
VERSION:2.0
PRODID:-//Hollywood Forever - ECPv6.15.20//NONSGML v1.0//EN
CALSCALE:GREGORIAN
METHOD:PUBLISH
X-WR-CALNAME:Hollywood Forever
X-ORIGINAL-URL:https://hollywoodforever.com
X-WR-CALDESC:Events for Hollywood Forever
REFRESH-INTERVAL;VALUE=DURATION:PT1H
X-Robots-Tag:noindex
X-PUBLISHED-TTL:PT1H
BEGIN:VTIMEZONE
TZID:America/Los_Angeles
BEGIN:DAYLIGHT
TZOFFSETFROM:-0800
TZOFFSETTO:-0700
TZNAME:PDT
DTSTART:20220313T100000
END:DAYLIGHT
BEGIN:STANDARD
TZOFFSETFROM:-0700
TZOFFSETTO:-0800
TZNAME:PST
DTSTART:20221106T090000
END:STANDARD
BEGIN:DAYLIGHT
TZOFFSETFROM:-0800
TZOFFSETTO:-0700
TZNAME:PDT
DTSTART:20230312T100000
END:DAYLIGHT
BEGIN:STANDARD
TZOFFSETFROM:-0700
TZOFFSETTO:-0800
TZNAME:PST
DTSTART:20231105T090000
END:STANDARD
BEGIN:DAYLIGHT
TZOFFSETFROM:-0800
TZOFFSETTO:-0700
TZNAME:PDT
DTSTART:20240310T100000
END:DAYLIGHT
BEGIN:STANDARD
TZOFFSETFROM:-0700
TZOFFSETTO:-0800
TZNAME:PST
DTSTART:20241103T090000
END:STANDARD
END:VTIMEZONE
BEGIN:VEVENT
DTSTART;TZID=America/Los_Angeles:20231103T190000
DTEND;TZID=America/Los_Angeles:20231103T220000
DTSTAMP:20260425T204628
CREATED:20230711T140043Z
LAST-MODIFIED:20230709T235637Z
UID:102201-1699038000-1699048800@hollywoodforever.com
SUMMARY:Courtney Barnett
DESCRIPTION:7pm DOORS
URL:https://hollywoodforever.com/event/courtney-barnett/
LOCATION:The Masonic Lodge at Hollywood Forever\, 5970 Santa Monica Blvd\, Los Angeles\, CA\, 90038\, United States
ATTACH;FMTTYPE=image/jpeg:https://hollywoodforever.com/wp-content/uploads/2023/07/CB_1200X1500.jpg
ORGANIZER;CN="Hollywood Forever presents":MAILTO:events@hollywoodforever.com
END:VEVENT
BEGIN:VEVENT
DTSTART;TZID=America/Los_Angeles:20231104T190000
DTEND;TZID=America/Los_Angeles:20231104T220000
DTSTAMP:20260425T204628
CREATED:20230711T140043Z
LAST-MODIFIED:20230709T235834Z
UID:102207-1699124400-1699135200@hollywoodforever.com
SUMMARY:Courtney Barnett
DESCRIPTION:7pm DOORS
URL:https://hollywoodforever.com/event/courtney-barnett-2/
LOCATION:The Masonic Lodge at Hollywood Forever\, 5970 Santa Monica Blvd\, Los Angeles\, CA\, 90038\, United States
ATTACH;FMTTYPE=image/jpeg:https://hollywoodforever.com/wp-content/uploads/2023/07/CB_1200X1500.jpg
ORGANIZER;CN="Hollywood Forever presents":MAILTO:events@hollywoodforever.com
END:VEVENT
BEGIN:VEVENT
DTSTART;TZID=America/Los_Angeles:20231109T183000
DTEND;TZID=America/Los_Angeles:20231109T213000
DTSTAMP:20260425T204628
CREATED:20230503T175505Z
LAST-MODIFIED:20230503T175610Z
UID:99210-1699554600-1699565400@hollywoodforever.com
SUMMARY:Therapy Gecko Live
DESCRIPTION:6:30pm DOORS
URL:https://hollywoodforever.com/event/therapy-gecko-live-2/
LOCATION:The Masonic Lodge at Hollywood Forever\, 5970 Santa Monica Blvd\, Los Angeles\, CA\, 90038\, United States
ATTACH;FMTTYPE=image/jpeg:https://hollywoodforever.com/wp-content/uploads/2023/05/NEIL-FAVILA-1_1200w.jpg
END:VEVENT
BEGIN:VEVENT
DTSTART;TZID=America/Los_Angeles:20231110T183000
DTEND;TZID=America/Los_Angeles:20231110T210000
DTSTAMP:20260425T204628
CREATED:20230202T190020Z
LAST-MODIFIED:20230222T010811Z
UID:94441-1699641000-1699650000@hollywoodforever.com
SUMMARY:Therapy Gecko Live
DESCRIPTION:6:30PM DOORS
URL:https://hollywoodforever.com/event/therapy-gecko-live/
LOCATION:The Masonic Lodge at Hollywood Forever\, 5970 Santa Monica Blvd\, Los Angeles\, CA\, 90038\, United States
ATTACH;FMTTYPE=image/jpeg:https://hollywoodforever.com/wp-content/uploads/2023/02/NEIL-FAVILA-1_1200w.jpg
END:VEVENT
BEGIN:VEVENT
DTSTART;TZID=America/Los_Angeles:20231111T190000
DTEND;TZID=America/Los_Angeles:20231111T220000
DTSTAMP:20260425T204628
CREATED:20230328T140006Z
LAST-MODIFIED:20230906T174510Z
UID:96492-1699729200-1699740000@hollywoodforever.com
SUMMARY:Charlie Cunningham w Ethan Tasch
DESCRIPTION:7PM DOORS
URL:https://hollywoodforever.com/event/charlie-cunningham/
LOCATION:The Masonic Lodge at Hollywood Forever\, 5970 Santa Monica Blvd\, Los Angeles\, CA\, 90038\, United States
ATTACH;FMTTYPE=image/jpeg:https://hollywoodforever.com/wp-content/uploads/2023/03/CC_US_FALL_SINGLESHOW_TMLHF.jpg
END:VEVENT
BEGIN:VEVENT
DTSTART;TZID=America/Los_Angeles:20231113T200000
DTEND;TZID=America/Los_Angeles:20231113T223000
DTSTAMP:20260425T204628
CREATED:20230804T140043Z
LAST-MODIFIED:20231106T221720Z
UID:102737-1699905600-1699914600@hollywoodforever.com
SUMMARY:††† (Crosses) w C-Minus
DESCRIPTION:8PM DOORS
URL:https://hollywoodforever.com/event/crosses/
LOCATION:The Masonic Lodge at Hollywood Forever\, 5970 Santa Monica Blvd\, Los Angeles\, CA\, 90038\, United States
ATTACH;FMTTYPE=image/jpeg:https://hollywoodforever.com/wp-content/uploads/2023/08/Crosses-IMAGE-CLEAN-1200W.jpg
ORGANIZER;CN="Hollywood Forever presents":MAILTO:events@hollywoodforever.com
END:VEVENT
BEGIN:VEVENT
DTSTART;TZID=America/Los_Angeles:20231114T200000
DTEND;TZID=America/Los_Angeles:20231114T223000
DTSTAMP:20260425T204628
CREATED:20230804T140010Z
LAST-MODIFIED:20231108T165616Z
UID:102743-1699992000-1700001000@hollywoodforever.com
SUMMARY:††† (Crosses) w ValleyGhoul
DESCRIPTION:8PM DOORS
URL:https://hollywoodforever.com/event/crosses-2/
LOCATION:The Masonic Lodge at Hollywood Forever\, 5970 Santa Monica Blvd\, Los Angeles\, CA\, 90038\, United States
ATTACH;FMTTYPE=image/jpeg:https://hollywoodforever.com/wp-content/uploads/2023/08/Crosses-IMAGE-CLEAN-1200W.jpg
ORGANIZER;CN="Hollywood Forever presents":MAILTO:events@hollywoodforever.com
END:VEVENT
BEGIN:VEVENT
DTSTART;TZID=America/Los_Angeles:20231115T110000
DTEND;TZID=America/Los_Angeles:20231115T120000
DTSTAMP:20260425T204628
CREATED:20231108T010432Z
LAST-MODIFIED:20231108T010432Z
UID:109943-1700046000-1700049600@hollywoodforever.com
SUMMARY:Tyrone Power annual memorial service
DESCRIPTION:WEDNESDAY\, NOVEMBER 15th 11am at Hollywood Forever Cemetery in the Garden of Legends.\nHollywood Forever remembers the great Tyrone Power on the 65th anniversary of his death. \nJoin us for an intimate memorial at Tyrone’s graveside\, beside our beautiful lake\, as we honor the life and work of this Hollywood icon. Guest speakers and movie memorabilia will be a part of the service.
URL:https://hollywoodforever.com/event/tyrone-power-annual-memorial-service/
LOCATION:Hollywood Forever\, 6000 Santa Monica Blvd\, Los Angeles\, CA\, 90038\, United States
ATTACH;FMTTYPE=image/jpeg:https://hollywoodforever.com/wp-content/uploads/2023/11/ty-power-2023.remini-enhanced.jpg
END:VEVENT
BEGIN:VEVENT
DTSTART;TZID=America/Los_Angeles:20231115T200000
DTEND;TZID=America/Los_Angeles:20231115T223000
DTSTAMP:20260425T204628
CREATED:20230808T184954Z
LAST-MODIFIED:20231106T221649Z
UID:102878-1700078400-1700087400@hollywoodforever.com
SUMMARY:††† (Crosses) w Suicideyear
DESCRIPTION:8PM DOORS
URL:https://hollywoodforever.com/event/crosses-3/
LOCATION:The Masonic Lodge at Hollywood Forever\, 5970 Santa Monica Blvd\, Los Angeles\, CA\, 90038\, United States
ATTACH;FMTTYPE=image/jpeg:https://hollywoodforever.com/wp-content/uploads/2023/08/Crosses-IMAGE-CLEAN-1200W-1.jpg
ORGANIZER;CN="Hollywood Forever presents":MAILTO:events@hollywoodforever.com
END:VEVENT
BEGIN:VEVENT
DTSTART;TZID=America/Los_Angeles:20231116T190000
DTEND;TZID=America/Los_Angeles:20231116T220000
DTSTAMP:20260425T204628
CREATED:20230818T131539Z
LAST-MODIFIED:20231108T220925Z
UID:103072-1700161200-1700172000@hollywoodforever.com
SUMMARY:Watchhouse - Special Duo Set
DESCRIPTION:7PM DOORS
URL:https://hollywoodforever.com/event/watchhouse-special-duo-set/
LOCATION:The Masonic Lodge at Hollywood Forever\, 5970 Santa Monica Blvd\, Los Angeles\, CA\, 90038\, United States
ATTACH;FMTTYPE=image/jpeg:https://hollywoodforever.com/wp-content/uploads/2023/08/Watchhouse-Duo-2-Credit-Charlie-Boss_1080X1350.jpg
END:VEVENT
BEGIN:VEVENT
DTSTART;TZID=America/Los_Angeles:20231117T190000
DTEND;TZID=America/Los_Angeles:20231117T220000
DTSTAMP:20260425T204628
CREATED:20230808T080040Z
LAST-MODIFIED:20230818T130517Z
UID:102867-1700247600-1700258400@hollywoodforever.com
SUMMARY:Jazmin Bean
DESCRIPTION:7pm DOORS
URL:https://hollywoodforever.com/event/jazmin-bean/
LOCATION:The Masonic Lodge at Hollywood Forever\, 5970 Santa Monica Blvd\, Los Angeles\, CA\, 90038\, United States
ATTACH;FMTTYPE=image/jpeg:https://hollywoodforever.com/wp-content/uploads/2023/08/1080X1350-JAZMIN-BEAN.jpg
ORGANIZER;CN="Hollywood Forever presents":MAILTO:events@hollywoodforever.com
END:VEVENT
BEGIN:VEVENT
DTSTART;TZID=America/Los_Angeles:20231130T191500
DTEND;TZID=America/Los_Angeles:20231130T213000
DTSTAMP:20260425T204628
CREATED:20230628T011225Z
LAST-MODIFIED:20230629T024025Z
UID:101799-1701371700-1701379800@hollywoodforever.com
SUMMARY:The Greatest Generation
DESCRIPTION:6:15 VIP Doors \n6:45 VIP Meet & Greet \n7:15 GA Doors \n8:00 Show \nThe Greatest Generation is a comedy podcast about Star Trek\, beloved by everyone from people who’ve never seen an episode to hardcore nerds who are fluent in Klingon.\nOnce a week Benjamin Ahr Harrison and Adam Pranica watch an episode of Star Trek and tell you what’s great\, what’s bad\, and what’s hilarious about the show they grew up loving\, and still do. It’s a little bit nerdy\, a lot filthy\, and exposes some of Adam and Ben’s most embarrassing stories from their dorky childhoods.
URL:https://hollywoodforever.com/event/the-greatest-generation/
LOCATION:The Masonic Lodge at Hollywood Forever\, 5970 Santa Monica Blvd\, Los Angeles\, CA\, 90038\, United States
ATTACH;FMTTYPE=image/jpeg:https://hollywoodforever.com/wp-content/uploads/2023/06/The-Greatest-Generation-Show-Art.jpg
ORGANIZER;CN="Hollywood Forever presents":MAILTO:events@hollywoodforever.com
END:VEVENT
END:VCALENDAR