BEGIN:VCALENDAR
VERSION:2.0
PRODID:-//Hollywood Forever - ECPv6.15.20//NONSGML v1.0//EN
CALSCALE:GREGORIAN
METHOD:PUBLISH
X-WR-CALNAME:Hollywood Forever
X-ORIGINAL-URL:https://hollywoodforever.com
X-WR-CALDESC:Events for Hollywood Forever
REFRESH-INTERVAL;VALUE=DURATION:PT1H
X-Robots-Tag:noindex
X-PUBLISHED-TTL:PT1H
BEGIN:VTIMEZONE
TZID:America/Los_Angeles
BEGIN:DAYLIGHT
TZOFFSETFROM:-0800
TZOFFSETTO:-0700
TZNAME:PDT
DTSTART:20220313T100000
END:DAYLIGHT
BEGIN:STANDARD
TZOFFSETFROM:-0700
TZOFFSETTO:-0800
TZNAME:PST
DTSTART:20221106T090000
END:STANDARD
BEGIN:DAYLIGHT
TZOFFSETFROM:-0800
TZOFFSETTO:-0700
TZNAME:PDT
DTSTART:20230312T100000
END:DAYLIGHT
BEGIN:STANDARD
TZOFFSETFROM:-0700
TZOFFSETTO:-0800
TZNAME:PST
DTSTART:20231105T090000
END:STANDARD
BEGIN:DAYLIGHT
TZOFFSETFROM:-0800
TZOFFSETTO:-0700
TZNAME:PDT
DTSTART:20240310T100000
END:DAYLIGHT
BEGIN:STANDARD
TZOFFSETFROM:-0700
TZOFFSETTO:-0800
TZNAME:PST
DTSTART:20241103T090000
END:STANDARD
END:VTIMEZONE
BEGIN:VEVENT
DTSTART;TZID=America/Los_Angeles:20230701T191500
DTEND;TZID=America/Los_Angeles:20230701T230000
DTSTAMP:20260425T133116
CREATED:20230522T233700Z
LAST-MODIFIED:20230522T233700Z
UID:100130-1688238900-1688252400@hollywoodforever.com
SUMMARY:PEE-WEE’S BIG ADVENTURE + FIREWORKS
DESCRIPTION:Directed by Tim Burton (1985\, 91 minutes)\nHollywood Forever Cemetery /\nSATURDAY\, JULY 1ST\nGates – 7:15pm / Movie – 9pm \nWith Fireworks \nPack your bowtie and buckle up for a crayon-colored adventure with Pee-Wee (that’s his name\, don’t wear it out)! Take a cartoonish cross-country joyride with help from visionary director Tim Burton. Pee-wee is a rebel with a cause: to track down his beloved bike no matter where the adventure takes him. Hilarity and a cavalcade of quirkiness ensues. \nSparks fly after the main feature with a spectacular firework show to ring in July. Cinespia DJ sets will turn a precious night into a party. Bring your best friends and family for a twee picnic\, or let our concessions stand and grill add extra flare to your night. Be sure to visit our Free Photobooth for a chance to step into the wild\, wonderful world of a lovable kook. (I know you are\, but what am I?)
URL:https://hollywoodforever.com/event/pee-wees-big-adventure-fireworks/
LOCATION:Hollywood Forever\, 6000 Santa Monica Blvd\, Los Angeles\, CA\, 90038\, United States
ATTACH;FMTTYPE=image/jpeg:https://hollywoodforever.com/wp-content/uploads/2023/05/PW-tf.jpg
END:VEVENT
BEGIN:VEVENT
DTSTART;TZID=America/Los_Angeles:20230708T191500
DTEND;TZID=America/Los_Angeles:20230709T000000
DTSTAMP:20260425T133116
CREATED:20230522T234142Z
LAST-MODIFIED:20230522T234142Z
UID:100134-1688843700-1688860800@hollywoodforever.com
SUMMARY:FIGHT CLUB
DESCRIPTION:Directed by David Fincher (1999\, 149 minutes)\nHollywood Forever Cemetery /\nSATURDAY\, JULY 8TH\nGates – 7:15pm / Movie – 9pm \nFight for your right to party with sud brothers Brad Pitt and Edward Norton in David Fincher’s ballistic gut punch masterpiece. \nIkea idealism and Starbucks dreariness get hit by a wrecking ball when a buttoned-up insomniac meets the man who just might turn his life around. Brad Pitt is a hot and bothersome\, picture perfect anarchist: hard on capitalism\, but easy on the eyes. Bro code goes guerilla when new buddies become bank yankees — not to steal\, but for a righteous paradigm shift. Add in Helena Bonham Carter as a deadpan darling who smokes a pack a minute\, and the trouble hurts so good. But how long before bravado turns to unstoppable beast mode? I could tell ya\, but you know rule number one of Fight Club. \nThrow ‘em up for DJ sets that will get the revolution revved up. Grilled eats and concessions snacks will help you bulk up\, or bag your own picnic. Our bar packs a punch with cold beers and a selection of wine. The clock’s ticking so hop into our free Photobooth for a slice of the action. (“Yes\, sir.”)
URL:https://hollywoodforever.com/event/fight-club/
LOCATION:Hollywood Forever\, 6000 Santa Monica Blvd\, Los Angeles\, CA\, 90038\, United States
ATTACH;FMTTYPE=image/jpeg:https://hollywoodforever.com/wp-content/uploads/2023/05/fight-club-tf.jpg
END:VEVENT
BEGIN:VEVENT
DTSTART;TZID=America/Los_Angeles:20230715T191500
DTEND;TZID=America/Los_Angeles:20230715T230000
DTSTAMP:20260425T133116
CREATED:20230522T234507Z
LAST-MODIFIED:20230715T184945Z
UID:100138-1689448500-1689462000@hollywoodforever.com
SUMMARY:Romy and Michele’s High School Reunion
DESCRIPTION:Directed by David Mirkin (1997\, 92 minutes)\nHollywood Forever Cemetery /\nSATURDAY\, JULY 15TH\nGates – 7:15pm / Movie – 9pm \nWhether you’re a Romy or a Michele\, a Mary or a Rhoda\, reunite with the quirkiest 90s fashionistas in a flirty\, frisky world of their own. The road back to high school is neon-colored for two best friends who may or may not have invented Post-Its. Can a convertible and a flip phone fool the popular girls that made high school a living hell? \nPack a picnic with your version of a Business Woman Special\, or indulge in grilled deliciounsess and candy confections fit for a diet of gummy bears\, jelly beans\, and candy corns. Dress the cutest you’ve ever looked: Swing that big ponytail\, or gloss up your fit for a fashionable Free Photo Booth that deserves your A-game. Relive the perfect pop gem with spectacular DJ sets. Have a Romy and Michele Day!
URL:https://hollywoodforever.com/event/romy-and-micheles-high-school-reunion/
LOCATION:Hollywood Forever\, 6000 Santa Monica Blvd\, Los Angeles\, CA\, 90038\, United States
ATTACH;FMTTYPE=image/jpeg:https://hollywoodforever.com/wp-content/uploads/2023/05/RM_TF-1.jpg
END:VEVENT
BEGIN:VEVENT
DTSTART;TZID=America/Los_Angeles:20230722T191500
DTEND;TZID=America/Los_Angeles:20230723T000000
DTSTAMP:20260425T133116
CREATED:20230522T234809Z
LAST-MODIFIED:20230715T132943Z
UID:100142-1690053300-1690070400@hollywoodforever.com
SUMMARY:Gremlins
DESCRIPTION:Directed by Joe Dante (1984\, 106 minutes)\nHollywood Forever Cemetery /\nSATURDAY\, JULY 22ND\nGates – 7:15pm / Movie – 9pm \nIt’s Christmas in July with Gizmo and co! \nFirst they’re cute\, then they’re carnivorous as mischief and mayhem reign the night. A salesman’s Christmas gift for his son ravages the town when he doesn’t heed the warning to keep from feeding the beast. Wreck the halls at Hollywood Forever Cemetery becomes a crazed Christmasy critter country. You won’t believe our Free Photobooth in honor of the adorable little monsters. DJ sets before and after the film\, and a Beer and Wine Bar will bring the holiday season interlude during a SoCal summer night.
URL:https://hollywoodforever.com/event/gremlins/
LOCATION:Hollywood Forever\, 6000 Santa Monica Blvd\, Los Angeles\, CA\, 90038\, United States
ATTACH;FMTTYPE=image/jpeg:https://hollywoodforever.com/wp-content/uploads/2023/05/grem-tf-7.jpg
END:VEVENT
BEGIN:VEVENT
DTSTART;TZID=America/Los_Angeles:20230729T191500
DTEND;TZID=America/Los_Angeles:20230729T233000
DTSTAMP:20260425T133116
CREATED:20230522T235153Z
LAST-MODIFIED:20230715T132746Z
UID:100146-1690658100-1690673400@hollywoodforever.com
SUMMARY:Valley Girl
DESCRIPTION:Directed by Martha Coolidge (1983\, 95 minutes)\nHollywood Forever Cemetery /\nSATURDAY\, JULY 29TH\nGates – 7:15pm / Movie – 9pm \nStop the world and melt with a 40th Anniversary trip down SoCal memory lane \nIt’s a trippendicular tale as old as time: Valley Girl meets Hollywood boy\, and love ensues despite being from opposite sides of the (sound)tracks. Sure\, her friends have their misgivings (“like\, gag me with a spoon”)\, but what can you do when you’re eaten by the monster of love? If she doesn’t shape up\, she can kiss the bitchin’ val guys goodbye. With Nicolas Cage at his most fun-hinged\, how can anyone say no to that triangle of chest-hair? Check out those pecs! They got a word for girls like her\, you just gotta brush on your val-speak to get it. Enjoy the LA classic with a banger a minute that will transport you back in time when punk\, new wave\, and yacht pop rocked the same city. I’m so sure! \nOur DJ dance party is more fun than a night at the Valley Sheraton. It’s the social event of the season\, so invite your best dudes\, dudettes\, and mall-hopping mega-friends. Tubular eats from our concessions stand and grill will set the vibe. Grab those loud prints and chunky scrunchies for our Free Photobooth.
URL:https://hollywoodforever.com/event/valley-girl/
LOCATION:Hollywood Forever\, 6000 Santa Monica Blvd\, Los Angeles\, CA\, 90038\, United States
ATTACH;FMTTYPE=image/jpeg:https://hollywoodforever.com/wp-content/uploads/2023/05/valley-tf-2-1.jpg
END:VEVENT
END:VCALENDAR