BEGIN:VCALENDAR
VERSION:2.0
PRODID:-//Hollywood Forever - ECPv6.15.20//NONSGML v1.0//EN
CALSCALE:GREGORIAN
METHOD:PUBLISH
X-ORIGINAL-URL:https://hollywoodforever.com
X-WR-CALDESC:Events for Hollywood Forever
REFRESH-INTERVAL;VALUE=DURATION:PT1H
X-Robots-Tag:noindex
X-PUBLISHED-TTL:PT1H
BEGIN:VTIMEZONE
TZID:America/Los_Angeles
BEGIN:DAYLIGHT
TZOFFSETFROM:-0800
TZOFFSETTO:-0700
TZNAME:PDT
DTSTART:20210314T100000
END:DAYLIGHT
BEGIN:STANDARD
TZOFFSETFROM:-0700
TZOFFSETTO:-0800
TZNAME:PST
DTSTART:20211107T090000
END:STANDARD
BEGIN:DAYLIGHT
TZOFFSETFROM:-0800
TZOFFSETTO:-0700
TZNAME:PDT
DTSTART:20220313T100000
END:DAYLIGHT
BEGIN:STANDARD
TZOFFSETFROM:-0700
TZOFFSETTO:-0800
TZNAME:PST
DTSTART:20221106T090000
END:STANDARD
BEGIN:DAYLIGHT
TZOFFSETFROM:-0800
TZOFFSETTO:-0700
TZNAME:PDT
DTSTART:20230312T100000
END:DAYLIGHT
BEGIN:STANDARD
TZOFFSETFROM:-0700
TZOFFSETTO:-0800
TZNAME:PST
DTSTART:20231105T090000
END:STANDARD
END:VTIMEZONE
BEGIN:VEVENT
DTSTART;TZID=America/Los_Angeles:20220806T184500
DTEND;TZID=America/Los_Angeles:20220806T233000
DTSTAMP:20260424T171206
CREATED:20220713T201922Z
LAST-MODIFIED:20220713T201922Z
UID:83706-1659811500-1659828600@hollywoodforever.com
SUMMARY:A League of Their Own
DESCRIPTION:Directed by Penny Marshall (1992\, 128 minutes)\nGates – 6:45pm / Film – 8:30pm \n30th Anniversary Screening with Geena Davis and the stars of the new Prime Video Series A LEAGUE OF THEIR OWN in person! \nBaseball diamonds are a girl’s best friend in the classic celebration of sisterhood and sportsmanship. When World War II puts Major League Baseball on hiatus\, a group of trailblazing women give the national pastime a kick in the pants. Geena Davis is pretty as a Rockford Peach with an arm that packs a wallop. Can an all-women team help bring joy to the masses\, or will sibling rivalry and a has-been coach cause the Peaches to strike out? Penny Marshall directs a cinematic lockup with an all-star cast including Tom Hanks\, Madonna\, Rosie O’Donnell\, Lori Petty\, Garry Marshall\, and Jon Lovitz. \nTake your friends and family out to the ball game for laughs and nostalgia\, just remember: there’s no crying in baseball. Our Free Photobooth knocks it out of the park with picture perfect keepsakes to take home. DJ sets before and after the film keep the night swinging. Bring your own picnic\, or keep your bases loaded with concessions sweets\, grilled eats\, and coffee treats. Drinks from our Beer and Wine bar will make your picnic a grand slam.
URL:https://hollywoodforever.com/event/a-league-of-their-own/
LOCATION:Hollywood Forever\, 6000 Santa Monica Blvd\, Los Angeles\, CA\, 90038\, United States
ATTACH;FMTTYPE=image/png:https://hollywoodforever.com/wp-content/uploads/2022/07/L_main-1.png
END:VEVENT
BEGIN:VEVENT
DTSTART;TZID=America/Los_Angeles:20220813T184500
DTEND;TZID=America/Los_Angeles:20220813T233000
DTSTAMP:20260424T171206
CREATED:20220713T202250Z
LAST-MODIFIED:20220713T202250Z
UID:83710-1660416300-1660433400@hollywoodforever.com
SUMMARY:Romeo + Juliet
DESCRIPTION:Directed by Baz Luhrmann (1996\, 120 minutes)\nGates – 6:45pm / Movie – 8:30pm \nPartying is no sweet sorrow when the bard’s best meets 90s exuberance! Never was a story more of whoa than the happy swagger of Baz Luhrmann’s Juliet and Romeo\, played by darling Claire Danes and heartthrob Leonardo DiCaprio at his heart-throbbiest. L’amour is in the air when star-crossed cuties bloom despite the vicious strife between two rival households. Will love conquer all? (I’m pretty sure you know how it ends.) \nYoung hearts run free before and after the film for a dreamy dance party. Wherefore art thou Romeos? Wear your silky Hawaiian shirts or dress in angelic opulence for the fashions of your midsummer night’s dreams. Defy the stars with pose after pose in our decadent Free Photobooth.
URL:https://hollywoodforever.com/event/romeo-juliet/
LOCATION:Hollywood Forever\, 6000 Santa Monica Blvd\, Los Angeles\, CA\, 90038\, United States
ATTACH;FMTTYPE=image/png:https://hollywoodforever.com/wp-content/uploads/2022/07/RJ_main-1.png
END:VEVENT
BEGIN:VEVENT
DTSTART;TZID=America/Los_Angeles:20220817T180000
DTEND;TZID=America/Los_Angeles:20220817T220000
DTSTAMP:20260424T171206
CREATED:20220215T170009Z
LAST-MODIFIED:20220816T233143Z
UID:77786-1660759200-1660773600@hollywoodforever.com
SUMMARY:MY MORNING JACKET with special guest Joy Oladokun
DESCRIPTION:OUTDOORS ON THE FAIRBANKS LAWN \n6:00PM GA GATES OPEN\n6:30PM JOY OLADOKUN\n7:40PM MY MORNING JACKET \nGA TICKETS $69.50\nVIP PACKAGE $199 – SOLD OUT \nCOVID-19 POLICY: Preventative health measures (e.g. proof of negative COVID-19 test or full COVID-19 vaccination and booster\, wearing masks) may be required for this show. Details of any necessary measures will be communicated as early as possible and will be shared on the event/venue website and other channels. If you have questions about vaccines or want to get a vaccine\, please visit Vaccines.gov to find the nearest vaccine provider near you.\nAn inherent risk of exposure to COVID-19 exists in any public space where people are present. COVID-19 is a contagious disease that can lead to illness. According to the Centers For Disease Control and Prevention\, people with underlying medical conditions are especially vulnerable. \n6 ticket per person/credit card/email/household limit \nCustomers with more than 6 will be automatically refunded w/o notice \nTHESE TICKETS ARE NON-TRANSFERABLE & NOT FOR RESALE \nRESOLD TICKETS WILL NOT BE HONORED \nYou may bring blankets\, pillows and picnics \nYou may NOT bring tents\, coolers\, chairs of any kind\, dogs/pets \n* No one is permitted to line up before 5pm * \n* This show is OUTDOORS and is RAIN OR SHINE * \nMy Morning Jacket has partnered with PLUS1 so that $1 from each ticket will go to supporting nonprofits working to secure social justice\, ensure mental health care for all\, and confront the climate crisis.
URL:https://hollywoodforever.com/event/my-morning-jacket-with-special-guest-joy-oladukun/
LOCATION:Hollywood Forever\, 6000 Santa Monica Blvd\, Los Angeles\, CA\, 90038\, United States
ATTACH;FMTTYPE=image/jpeg:https://hollywoodforever.com/wp-content/uploads/2022/02/My-Morning-Jacket_1600W.jpg
END:VEVENT
BEGIN:VEVENT
DTSTART;TZID=America/Los_Angeles:20220818T180000
DTEND;TZID=America/Los_Angeles:20220818T220000
DTSTAMP:20260424T171206
CREATED:20220405T130043Z
LAST-MODIFIED:20220404T221601Z
UID:78415-1660845600-1660860000@hollywoodforever.com
SUMMARY:Father John Misty with special guest Suki Waterhouse
DESCRIPTION:Father John Misty\nwith special guest Suki Waterhouse\noutdoors on\nThe Fairbanks Lawn at Hollywood Forever\n8.18.2022\n6PM GATES\n—\nTICKETS HERE
URL:https://hollywoodforever.com/event/father-john-misty-with-special-guest-suki-waterhouse/
LOCATION:Hollywood Forever\, 6000 Santa Monica Blvd\, Los Angeles\, CA\, 90038\, United States
ATTACH;FMTTYPE=image/jpeg:https://hollywoodforever.com/wp-content/uploads/2022/04/FJM_8X10_1080w.jpg
END:VEVENT
BEGIN:VEVENT
DTSTART;TZID=America/Los_Angeles:20220819T180000
DTEND;TZID=America/Los_Angeles:20220819T220000
DTSTAMP:20260424T171206
CREATED:20220407T160810Z
LAST-MODIFIED:20221013T064746Z
UID:78445-1660932000-1660946400@hollywoodforever.com
SUMMARY:Father John Misty with special guest Suki Waterhouse
DESCRIPTION:Father John Misty\nwith special guest Suki Waterhouse\noutdoors on\nThe Fairbanks Lawn at Hollywood Forever\n8.19.2022\n6PM GATES\n—\nTICKETS HERE
URL:https://hollywoodforever.com/event/father-john-misty-with-special-guest-suki-waterhouse-2/
LOCATION:Hollywood Forever\, 6000 Santa Monica Blvd\, Los Angeles\, CA\, 90038\, United States
ATTACH;FMTTYPE=image/png:https://hollywoodforever.com/wp-content/uploads/2022/04/FJM-18-19-Second-Show-Art-8x10-1200W.png
END:VEVENT
BEGIN:VEVENT
DTSTART;TZID=America/Los_Angeles:20220820T184500
DTEND;TZID=America/Los_Angeles:20220821T020000
DTSTAMP:20260424T171206
CREATED:20220713T202602Z
LAST-MODIFIED:20220803T205205Z
UID:83714-1661021100-1661047200@hollywoodforever.com
SUMMARY:Slumber Party: Death Becomes Her + Jennifer's Body
DESCRIPTION:Directed by Robert Zemeckis / Karyn Kusama (1992 / 2009. )\nGates – 6:45pm / Death Becomes Her @ 8:30pm / Jennifer’s Body at midnight \nDrop Dead Gorgeous Double Feature! \nThe bad and the beautiful assemble for a night of crazy\, sexy\, cruel fun. Beauty is sin deep in a duo of deliciously off-beat films that prove pretty hurts: Death Becomes Her and Jennifer’s Body. \nFirst up: Death Becomes Her. Hell hath no fury like Goldie Hawn scorned. It’s beauty vs. beauty when a woman rivals her husband’s mistress (Meryl Streep) in a wicked game of ravishing seduction. Can a deal with the devilish Isabella Rossellini have help one reign over the rest? Or is a soul a terrible thing to waste? At midnight\, join maven Megan Fox and sweetheart Amanda Seyfried in a cult classic Jennifer’s Body with Diablo Cody’s mile-a-minute dialogue that’s sure to set tongues blazing. Best friends become fiery frenemies when one goes from high school queen to queen of the damned. Isn’t prom the perfect place to battle your demons? \nBeauty never fades during our bewitching dance party spectacle between the two films. Eternal beauty is yours with a click in our Free Photobooth. Pack a picnic for a night of wicked charms and sultry surprises. Pick your poison at our dreamy Beer and Wine Bar. Our concessions stand has all the classic movie indulgences\, and our grill will thrill with irresistible eats for carnivores and vegans. See you there\, gorg!
URL:https://hollywoodforever.com/event/slumber-party-death-becomes-her-jennifers-body/
LOCATION:Hollywood Forever\, 6000 Santa Monica Blvd\, Los Angeles\, CA\, 90038\, United States
ATTACH;FMTTYPE=image/jpeg:https://hollywoodforever.com/wp-content/uploads/2022/07/DBH_main.jpg
END:VEVENT
BEGIN:VEVENT
DTSTART;TZID=America/Los_Angeles:20220823T120000
DTEND;TZID=America/Los_Angeles:20220823T130000
DTSTAMP:20260424T171206
CREATED:20220812T185004Z
LAST-MODIFIED:20220812T185004Z
UID:84552-1661256000-1661259600@hollywoodforever.com
SUMMARY:Rudolph Valentino Memorial
DESCRIPTION:The 95th Annual Rudolph Valentino Memorial Service will be celebrated Tuesday\, August 23rd at Noon in Hollywood Forever’s Cathedral Mausoleum. This long-standing tradition will feature video presentations\, live music\, and readings of Valentino’s poetry. In addition\, we are happy to welcome descendants of the Valentino family who will be participating in this tribute to Valentino’s life\, work\, and legacy.\nThis year\, we pay special homage to the 100th anniversary of the Valentino cinema classic\, “Blood and Sand”. This Paramount picture debuted in 1922 and remains one the silent film era’s most iconic and beloved films.\nFeel free to dress up in vintage fashion or come just as you are!
URL:https://hollywoodforever.com/event/rudolph-valentino-memorial/
LOCATION:Hollywood Forever\, 6000 Santa Monica Blvd\, Los Angeles\, CA\, 90038\, United States
ATTACH;FMTTYPE=image/jpeg:https://hollywoodforever.com/wp-content/uploads/2022/08/blood-and-sand.jpg
END:VEVENT
BEGIN:VEVENT
DTSTART;TZID=America/Los_Angeles:20220827T184500
DTEND;TZID=America/Los_Angeles:20220827T233000
DTSTAMP:20260424T171206
CREATED:20220713T202926Z
LAST-MODIFIED:20220713T202926Z
UID:83718-1661625900-1661643000@hollywoodforever.com
SUMMARY:Raiders of the Lost Ark
DESCRIPTION:Directed by Steven Spielberg (1981\, 115 minutes)\nGates – 6:45pm / Movie – 8:30pm \nPack your bullwhip for the wonders and plunders of Steven Spielberg’s globe-trekking\, breathtaking amazing race!\n\n\n\nIndy darling Harrison Ford smolders as the adventurous gold snagging archeologist on a mission full of face melting fun and skin crawling suspense. Travel from Nepal to Cairo as Indiana Jones races to get the treasured Ark of the Covenant before his archenemies. Can he use his brawn and brains to stop Nazis and the occult? And what exactly are the Arks amazing powers? Only those who find this fabulous relic will know. The excitement and romance is non-stop as Indy plunges through jungles and desert sands in search of treasure.\n\n\n\nDJ sets before and after the film will take you on a sonic excursion across sand and sea. Get the ball rolling with drinks from our Beer and Wine Bar and delights from our concessions stand. Our grill brings the heat with delicious hamburgers and hot dogs right off the flame. Visit our Free Photobooth to take the adventure home with your own irreplaceable memento.
URL:https://hollywoodforever.com/event/raiders-of-the-lost-ark/
LOCATION:Hollywood Forever\, 6000 Santa Monica Blvd\, Los Angeles\, CA\, 90038\, United States
ATTACH;FMTTYPE=image/png:https://hollywoodforever.com/wp-content/uploads/2022/07/IJ_main2.png
END:VEVENT
END:VCALENDAR