BEGIN:VCALENDAR
VERSION:2.0
PRODID:-//Hollywood Forever - ECPv6.15.20//NONSGML v1.0//EN
CALSCALE:GREGORIAN
METHOD:PUBLISH
X-WR-CALNAME:Hollywood Forever
X-ORIGINAL-URL:https://hollywoodforever.com
X-WR-CALDESC:Events for Hollywood Forever
REFRESH-INTERVAL;VALUE=DURATION:PT1H
X-Robots-Tag:noindex
X-PUBLISHED-TTL:PT1H
BEGIN:VTIMEZONE
TZID:America/Los_Angeles
BEGIN:DAYLIGHT
TZOFFSETFROM:-0800
TZOFFSETTO:-0700
TZNAME:PDT
DTSTART:20210314T100000
END:DAYLIGHT
BEGIN:STANDARD
TZOFFSETFROM:-0700
TZOFFSETTO:-0800
TZNAME:PST
DTSTART:20211107T090000
END:STANDARD
BEGIN:DAYLIGHT
TZOFFSETFROM:-0800
TZOFFSETTO:-0700
TZNAME:PDT
DTSTART:20220313T100000
END:DAYLIGHT
BEGIN:STANDARD
TZOFFSETFROM:-0700
TZOFFSETTO:-0800
TZNAME:PST
DTSTART:20221106T090000
END:STANDARD
BEGIN:DAYLIGHT
TZOFFSETFROM:-0800
TZOFFSETTO:-0700
TZNAME:PDT
DTSTART:20230312T100000
END:DAYLIGHT
BEGIN:STANDARD
TZOFFSETFROM:-0700
TZOFFSETTO:-0800
TZNAME:PST
DTSTART:20231105T090000
END:STANDARD
END:VTIMEZONE
BEGIN:VEVENT
DTSTART;TZID=America/Los_Angeles:20220702T191500
DTEND;TZID=America/Los_Angeles:20220702T230000
DTSTAMP:20260424T153538
CREATED:20220604T014807Z
LAST-MODIFIED:20220604T015217Z
UID:81569-1656789300-1656802800@hollywoodforever.com
SUMMARY:The Fast and the Furious + Fireworks
DESCRIPTION:Directed by Rob Cohen (2001\, 106 minutes)\nGates – 7:15pm / Movie – 9pm \nThe 4th of July celebration keeps rollin’ rollin’ rollin’ (what?) with hot rods\, hard bods\, and full-throttle thrills \nUndercover cop Paul Walker speed races to infiltrate the car culture wars. Can he get the lowdown on a mysterious carjacking crew\, or will the high of acceptance and heart-thumping attraction create a torque in the road? Starring a roll call of the fast and the fearless: Vin Diesel\, Michelle Rodriguez\, and Jordana Brewster. \nNo need for NOS. Our epic fireworks show will bring the heat from the streets sky high. Grub all you want at our burger and hot dog grill. Knock back a few from our beer and wine bar\, or bring your own picnic of choice. DJ sets before and after the film keep the road rave ragin’ through the night. Step into the limelight of our Free Photobooth with your best 2000s fashions: Von Dutch\, car culture couture\, and layered tanks all welcomed.
URL:https://hollywoodforever.com/event/the-fast-and-the-furious-fireworks/
LOCATION:Hollywood Forever\, 6000 Santa Monica Blvd\, Los Angeles\, CA\, 90038\, United States
ATTACH;FMTTYPE=image/jpeg:https://hollywoodforever.com/wp-content/uploads/2022/06/fast-and-furious-main2.jpg
END:VEVENT
BEGIN:VEVENT
DTSTART;TZID=America/Los_Angeles:20220703T191500
DTEND;TZID=America/Los_Angeles:20220703T230000
DTSTAMP:20260424T153538
CREATED:20220604T015146Z
LAST-MODIFIED:20220604T015146Z
UID:81574-1656875700-1656889200@hollywoodforever.com
SUMMARY:Purple Rain + Fireworks
DESCRIPTION:Directed by Albert Magnoli (1984\, 111 minutes)\nGates – 7:15pm / Movie – 9pm \nPrince reigns supreme in the funk-rock classic that unleashed an electric shock \nDearly beloved\, gather together to celebrate musical genius. See the randy rise and dove cries when musician the Kid aims sky-high with his ambitions. Can the Kid blast away the past to rock positive towards meteoric fame? Go behind the music and into the mind of the brilliant genre-bending legend\, with all the sultry\, hip swaying chemistry between Prince and Apollonia. With Prince on the big screen\, the revolution is imminent. \nFireworks will make you tremble inside with sparkle and shimmer fit for music royalty. Bring a picnic\, or satisfy your cravings with popcorn\, kettle corn\, and movie snack perfection\, or indulge in deliciousness from our grill. Our beer and wine bar has all the libations for every genre-defying libertine. Beautiful ones\, slink into our Free Photobooth. Feel wily and free to dress in Prince-inspired fashions\, from raspberry berets to Vanity 6 sexiness. Baby\, you’re a star!
URL:https://hollywoodforever.com/event/purple-rain-fireworks/
LOCATION:Hollywood Forever\, 6000 Santa Monica Blvd\, Los Angeles\, CA\, 90038\, United States
ATTACH;FMTTYPE=image/jpeg:https://hollywoodforever.com/wp-content/uploads/2022/06/PR_main-1.jpg
END:VEVENT
BEGIN:VEVENT
DTSTART;TZID=America/Los_Angeles:20220704T191500
DTEND;TZID=America/Los_Angeles:20220704T230000
DTSTAMP:20260424T153538
CREATED:20220604T015501Z
LAST-MODIFIED:20220604T015501Z
UID:81578-1656962100-1656975600@hollywoodforever.com
SUMMARY:Ferris Bueller's Day Off + Fireworks
DESCRIPTION:Directed by John Hughes (1986\, 103 minutes)\nGates – 7:15pm / Movie – 9pm \nSave Ferris for your Fourth of July Escape \nFerris Bueller does his best for a staycay unlike the rest. With Principal Rooney hellbent on taking down his latest lie\, will Bueller play hooky like a pro or make a rookie mistake? Watch Matthew Broderick outsmart parents\, maitre d’s and the whole city of Chicago to get his vacation in the sun. Enjoy hijinks on the big screen (care of John Hughes) and illuminating fireworks after the film. Cinespia DJs bring the party parade to your picnic blanket. You’re the work of art in our Free Photobooth inspired by the ditch day of your dreams. Stock up on concessions snacks\, mouth-watering burgers and hot dogs. Our ice cold beer and wonderfully curated wine bar has all you could want to vacation victoriously. Ferris Bueller\, you’re our hero!
URL:https://hollywoodforever.com/event/ferris-buellers-day-off-fireworks/
LOCATION:Hollywood Forever\, 6000 Santa Monica Blvd\, Los Angeles\, CA\, 90038\, United States
ATTACH;FMTTYPE=image/jpeg:https://hollywoodforever.com/wp-content/uploads/2022/06/FB_main.jpg
END:VEVENT
BEGIN:VEVENT
DTSTART;TZID=America/Los_Angeles:20220709T191500
DTEND;TZID=America/Los_Angeles:20220709T233000
DTSTAMP:20260424T153538
CREATED:20220609T230442Z
LAST-MODIFIED:20220609T230442Z
UID:81691-1657394100-1657409400@hollywoodforever.com
SUMMARY:Almost Famous
DESCRIPTION:Directed by Cameron Crowe (2000\, 142 minutes)\nGates – 7:15pm / Movie – 9pm \n\n\n\n\nGet rockin’ on sunshine with the beloved behind-the-music dramedy that takes you backstage with rock gods\, wild parties\, and mind-blowing music \nPatrick Fugit lands the job of your 70s teen dreams covering the rock beat for Rolling Stone. Can the fifteen year old navigate the wily world of musicians and the band-aids who love them without slipping away into the feverishness of fame? Cameron Crowe’s love letter to rock and roll on the road is pure cinematic bliss based on his own experiences as a teenage rock writer. Catch the roving road trip that made a whole era feel new again with the fun and fury of life on tour in the 70s. With a superstar cast including Frances McDormand\, Philip Seymour Hoffman\, Billy Crudup\, Zooey Deschanel\, and Kate Hudson as the free spirit Penny Lane (don’t you dare call her a groupie). \nJoin all the good people and watch the perfect film for a picturesque L.A. picnic. Sparks are in the air with incredible DJ sets\, our famous Beer and Wine Bar\, and concessions eats. Every picture tells a story in our free Photobooth. It’s sure to be a rollicking good time for music lovers and tiny dancers alike.
URL:https://hollywoodforever.com/event/almost-famous/
LOCATION:Hollywood Forever\, 6000 Santa Monica Blvd\, Los Angeles\, CA\, 90038\, United States
ATTACH;FMTTYPE=image/png:https://hollywoodforever.com/wp-content/uploads/2022/06/AF_2.png
END:VEVENT
BEGIN:VEVENT
DTSTART;TZID=America/Los_Angeles:20220716T191500
DTEND;TZID=America/Los_Angeles:20220716T233000
DTSTAMP:20260424T153538
CREATED:20220609T230844Z
LAST-MODIFIED:20220609T230844Z
UID:81695-1657998900-1658014200@hollywoodforever.com
SUMMARY:Showgirls
DESCRIPTION:Directed by Paul Verhoeven (1995\, 128 minutes)\nGates – 7:15pm / Movie – 9pm \nThe show must glow on with the heel-clicking\, pole-licking mother-strutting glitz fit! \nThe Vegas Strip lives up to its name in the vivid and voluptuous fever dream of neon\, nails\, and Nomi. It’s a pole new world when a fiery woman hitches her way to Las Vegas\, where excess sells. After a private dance lands Nomi in the lap of luxury\, can the ferocious ingenue claw her way from Cheetah girl to Stardust Goddess? Or will the cruel reinventions get the best of her? Join us for the the glam-packed camp masterclassic with all the adult fun and titillating fashion tantrums for extra sultry splendor in the grass. \nPick your pleasure at our Beer and Wine Bar with all the drinks for your nice vice\, baby. Chow down with your favorite eats at our concessions stand and grill with deliciousness and a bag of chips. Snatch the crown with high fashions and Ver-sayce in our Free Photobooth. Thrust it on our dance floor\, but don’t trip. There’s enough spotlight for every star. It ain’t a party without you. See you there\, darlin’!
URL:https://hollywoodforever.com/event/showgirls/
LOCATION:Hollywood Forever\, 6000 Santa Monica Blvd\, Los Angeles\, CA\, 90038\, United States
ATTACH;FMTTYPE=image/png:https://hollywoodforever.com/wp-content/uploads/2022/06/SG_main.png
END:VEVENT
BEGIN:VEVENT
DTSTART;TZID=America/Los_Angeles:20220723T191500
DTEND;TZID=America/Los_Angeles:20220724T000000
DTSTAMP:20260424T153538
CREATED:20220609T231609Z
LAST-MODIFIED:20220609T232013Z
UID:81699-1658603700-1658620800@hollywoodforever.com
SUMMARY:Jackie Brown
DESCRIPTION:Directed by Quentin Tarantino (1997\, 154 minutes)\nGates – 7:15pm / Movie – 8:45pm \nRide sky high for the 25th Anniversary of Tarantino’s slick sting ring crime caper with a cherry on top \nHell hath no fury like Pam Grier scorned as the forever cool heroine cons one and all. It’s the unkind leading the unkind when a money smuggler’s grind is put to halt by a cop (Michael Keaton) and a ruthless-yet-riotous gun kingpin (Samuel L. Jackson). Will the down-on-her-luck flight attendant win the battle of grifts\, or is death a dish best served cold-blooded? Tarantino’s smooth and slick caper still shimmers with slinky beats and stellar performances\, all in the name of one question: how far would you go for half a million dollars? \nIt’s in the bag if you bring your own picnic\, or let our grill do the grilling and our concessions stand do the thrilling. No need to smuggle beer and wine. Bring your own or let our bar quench your thirst. Grab a coffee to keep up with the twists and spurns. Our Photobooth will bring the silky charms to life. Booyah!
URL:https://hollywoodforever.com/event/jackie-brown/
LOCATION:Hollywood Forever\, 6000 Santa Monica Blvd\, Los Angeles\, CA\, 90038\, United States
ATTACH;FMTTYPE=image/jpeg:https://hollywoodforever.com/wp-content/uploads/2022/06/jackie-main-1.jpg
END:VEVENT
BEGIN:VEVENT
DTSTART;TZID=America/Los_Angeles:20220730T191500
DTEND;TZID=America/Los_Angeles:20220730T230000
DTSTAMP:20260424T153538
CREATED:20220609T231856Z
LAST-MODIFIED:20220609T231856Z
UID:81701-1659208500-1659222000@hollywoodforever.com
SUMMARY:Alfred Hitchcock's The Birds
DESCRIPTION:Directed by Alfred Hitchcock (1963\, 119 minutes)\nGates – 7:15pm / Movie – 9pm \nFright night takes flight with Alfred Hitchcock’s beauty and the beak horror masterpiece \nBird’s the word when things get trippy for wild socialite Tippy Hedren on a trek to a small town for hunky Rod Taylor. It’s fight or flight when birds decide the apocalypse is nigh high. A mysterious malady puts townspeople against talons when feathered friends fiend for sadistic glee. One of the most daring and breathtaking thrillers ever still manages to shock and caw. Swoop there it is with birds in the schoolyard\, diners and homes. No one is safe. After all\, a group of crows is murder.  \nJoin us for this special evening in the cemetery with a themed Free Photobooth\, a sunset picnic with beer and wine from our bar to wet your beak\, and Hitchcockian shrieks under the stars.
URL:https://hollywoodforever.com/event/alfred-hitchcocks-the-birds/
LOCATION:Hollywood Forever\, 6000 Santa Monica Blvd\, Los Angeles\, CA\, 90038\, United States
ATTACH;FMTTYPE=image/png:https://hollywoodforever.com/wp-content/uploads/2022/06/TheBirds.png
END:VEVENT
END:VCALENDAR