BEGIN:VCALENDAR
VERSION:2.0
PRODID:-//Hollywood Forever - ECPv6.15.20//NONSGML v1.0//EN
CALSCALE:GREGORIAN
METHOD:PUBLISH
X-WR-CALNAME:Hollywood Forever
X-ORIGINAL-URL:https://hollywoodforever.com
X-WR-CALDESC:Events for Hollywood Forever
REFRESH-INTERVAL;VALUE=DURATION:PT1H
X-Robots-Tag:noindex
X-PUBLISHED-TTL:PT1H
BEGIN:VTIMEZONE
TZID:America/Los_Angeles
BEGIN:DAYLIGHT
TZOFFSETFROM:-0800
TZOFFSETTO:-0700
TZNAME:PDT
DTSTART:20200308T100000
END:DAYLIGHT
BEGIN:STANDARD
TZOFFSETFROM:-0700
TZOFFSETTO:-0800
TZNAME:PST
DTSTART:20201101T090000
END:STANDARD
BEGIN:DAYLIGHT
TZOFFSETFROM:-0800
TZOFFSETTO:-0700
TZNAME:PDT
DTSTART:20210314T100000
END:DAYLIGHT
BEGIN:STANDARD
TZOFFSETFROM:-0700
TZOFFSETTO:-0800
TZNAME:PST
DTSTART:20211107T090000
END:STANDARD
BEGIN:DAYLIGHT
TZOFFSETFROM:-0800
TZOFFSETTO:-0700
TZNAME:PDT
DTSTART:20220313T100000
END:DAYLIGHT
BEGIN:STANDARD
TZOFFSETFROM:-0700
TZOFFSETTO:-0800
TZNAME:PST
DTSTART:20221106T090000
END:STANDARD
END:VTIMEZONE
BEGIN:VEVENT
DTSTART;TZID=America/Los_Angeles:20211110T200000
DTEND;TZID=America/Los_Angeles:20211110T220000
DTSTAMP:20260424T191613
CREATED:20210617T110028Z
LAST-MODIFIED:20211111T040021Z
UID:67057-1636574400-1636581600@hollywoodforever.com
SUMMARY:Foy Vance (An Evening With)
DESCRIPTION:DOORS OPEN 7 PM \nLimit 4 tickets per household / customer / email / account / CC / address.\nPurchases that exceed the 4 ticket limit are subject to cancellation.\nOrders placed for the sole purpose of resale may be cancelled without notice.\n\nCOVID POLICY: Proof of vaccination completed 2 weeks or more prior to show date. Proof will be checked and verified at the door during entry process. \nThe show will be held in a beautiful Masonic Lodge built in 1927.\nThere are no elevators in this historic landmark. Ascending stairs is required to enter the venue. \nPARKING IS FREE ON SITE\nFREE ONSITE PARKING OPENS 1 HOUR BEFORE DOORS
URL:https://hollywoodforever.com/event/foy-vance-an-evening-with/
LOCATION:The Masonic Lodge at Hollywood Forever\, 5970 Santa Monica Blvd\, Los Angeles\, CA\, 90038\, United States
ATTACH;FMTTYPE=image/jpeg:https://hollywoodforever.com/wp-content/uploads/2021/06/PRESS-PHOTO-JPG-1800W.jpg
END:VEVENT
BEGIN:VEVENT
DTSTART;TZID=America/Los_Angeles:20211115T110000
DTEND;TZID=America/Los_Angeles:20211115T120000
DTSTAMP:20260424T191613
CREATED:20211112T212049Z
LAST-MODIFIED:20211112T212049Z
UID:73507-1636974000-1636977600@hollywoodforever.com
SUMMARY:62nd Annual Tyrone Power Memorial Service
DESCRIPTION:Join Hollywood Forever in honoring actor\, Tyrone Power\, on the 63rd anniversary of his death.  \nThis will be the 62nd annual memorial for family\, friends\, and fans to gather and remember Power’s life and work. \nIt will take place outdoors at Tyrone’s gravesite in the beautiful Garden of Legends\, Hollywood Forever Cemetery. \nIt is free and open to the public.  \nWe hope to see you here.
URL:https://hollywoodforever.com/event/62nd-annual-tyrone-power-memorial-service/
LOCATION:Hollywood Forever\, 6000 Santa Monica Blvd\, Los Angeles\, CA\, 90038\, United States
ATTACH;FMTTYPE=image/jpeg:https://hollywoodforever.com/wp-content/uploads/2021/11/Tyrone-Power-1-e1636752028482.jpg
END:VEVENT
END:VCALENDAR