BEGIN:VCALENDAR
VERSION:2.0
PRODID:-//Hollywood Forever - ECPv6.15.20//NONSGML v1.0//EN
CALSCALE:GREGORIAN
METHOD:PUBLISH
X-WR-CALNAME:Hollywood Forever
X-ORIGINAL-URL:https://hollywoodforever.com
X-WR-CALDESC:Events for Hollywood Forever
REFRESH-INTERVAL;VALUE=DURATION:PT1H
X-Robots-Tag:noindex
X-PUBLISHED-TTL:PT1H
BEGIN:VTIMEZONE
TZID:America/Los_Angeles
BEGIN:DAYLIGHT
TZOFFSETFROM:-0800
TZOFFSETTO:-0700
TZNAME:PDT
DTSTART:20200308T100000
END:DAYLIGHT
BEGIN:STANDARD
TZOFFSETFROM:-0700
TZOFFSETTO:-0800
TZNAME:PST
DTSTART:20201101T090000
END:STANDARD
BEGIN:DAYLIGHT
TZOFFSETFROM:-0800
TZOFFSETTO:-0700
TZNAME:PDT
DTSTART:20210314T100000
END:DAYLIGHT
BEGIN:STANDARD
TZOFFSETFROM:-0700
TZOFFSETTO:-0800
TZNAME:PST
DTSTART:20211107T090000
END:STANDARD
BEGIN:DAYLIGHT
TZOFFSETFROM:-0800
TZOFFSETTO:-0700
TZNAME:PDT
DTSTART:20220313T100000
END:DAYLIGHT
BEGIN:STANDARD
TZOFFSETFROM:-0700
TZOFFSETTO:-0800
TZNAME:PST
DTSTART:20221106T090000
END:STANDARD
END:VTIMEZONE
BEGIN:VEVENT
DTSTART;TZID=America/Los_Angeles:20211002T171500
DTEND;TZID=America/Los_Angeles:20211002T213000
DTSTAMP:20260424T211444
CREATED:20210917T054300Z
LAST-MODIFIED:20210917T055445Z
UID:70712-1633194900-1633210200@hollywoodforever.com
SUMMARY:A Nightmare on Elm Street
DESCRIPTION:Directed by Wes Craven (1884\, 91 minutes)\nHollywood Forever Cemetery / $22\nGates – 5:15pm / Movie – 7pm \nGet ready for Freddy Krueger and for a slashing night beyond your wildest nightmares. A teen suspects foul play when her bloody nightmares terrorize her quiet suburb. Is it all but a dream or is something wicked clawing its way in? With one of the most iconic movie villains to ever cut through the big screen\, you won’t want to miss the rollicking popcorn fun and ferociousness. Our free Photo Booth is a real scream. DJ sets and our coffee bar will keep you awake and energized through the night. Whatever you do\, don’t fall asleep!
URL:https://hollywoodforever.com/event/a-nightmare-on-elm-street/
LOCATION:Hollywood Forever\, 6000 Santa Monica Blvd\, Los Angeles\, CA\, 90038\, United States
ATTACH;FMTTYPE=image/jpeg:https://hollywoodforever.com/wp-content/uploads/2021/09/NE_tf.jpg
END:VEVENT
BEGIN:VEVENT
DTSTART;TZID=America/Los_Angeles:20211003T193000
DTEND;TZID=America/Los_Angeles:20211003T210000
DTSTAMP:20260424T211444
CREATED:20210706T170029Z
LAST-MODIFIED:20210923T184613Z
UID:68399-1633289400-1633294800@hollywoodforever.com
SUMMARY:Last Podcast on the Left: Mamma Mia! Here We Go Again Tour
DESCRIPTION:Last Podcast on the Left\nMamma Mia! Here We Go Again Tour \nOUTDOORS ON THE FAIRBANKS LAWN\n6:00PM GATES\n7:30PM SHOW \nYou may bring: blankets\, pillows\, low chairs and picnics\nYou may NOT bring: tents\, coolers\, dogs/pets \nNo one is permitted to line up before 5:00pm\nThis show is OUTDOORS and is RAIN OR SHINE
URL:https://hollywoodforever.com/event/last-podcast-on-the-left-mamma-mia-here-we-go-again-tour/
LOCATION:Hollywood Forever\, 6000 Santa Monica Blvd\, Los Angeles\, CA\, 90038\, United States
ATTACH;FMTTYPE=image/jpeg:https://hollywoodforever.com/wp-content/uploads/2021/07/Last-Podcast-on-the-Left_1800w.jpg
END:VEVENT
BEGIN:VEVENT
DTSTART;TZID=America/Los_Angeles:20211007T200000
DTEND;TZID=America/Los_Angeles:20211007T230000
DTSTAMP:20260424T211444
CREATED:20210831T160050Z
LAST-MODIFIED:20210830T213257Z
UID:70041-1633636800-1633647600@hollywoodforever.com
SUMMARY:Evan Dando of The Lemonheads
DESCRIPTION:Evan Dando of The Lemondheads\nwith special guest Korey Dane \n8pm Doors \nCOVID-19 POLICY : Proof of vaccination completed 2 weeks or more prior to show date or negative Covid test within 48 hours of show.
URL:https://hollywoodforever.com/event/evan-dando-of-the-lemonheads/
LOCATION:The Masonic Lodge at Hollywood Forever\, 5970 Santa Monica Blvd\, Los Angeles\, CA\, 90038\, United States
ATTACH;FMTTYPE=image/jpeg:https://hollywoodforever.com/wp-content/uploads/2021/08/PRESS-PHOTO-EVAN-PORTRAIT-3-scaled-e1630359129511.jpg
END:VEVENT
BEGIN:VEVENT
DTSTART;TZID=America/Los_Angeles:20211009T171500
DTEND;TZID=America/Los_Angeles:20211009T210000
DTSTAMP:20260424T211444
CREATED:20210917T054652Z
LAST-MODIFIED:20210917T055550Z
UID:70716-1633799700-1633813200@hollywoodforever.com
SUMMARY:Labyrinth
DESCRIPTION:Directed by Jim Henson (1986\, 101 minutes)\nHollywood Forever Cemetery / $22\nGates 5:15pm / Movie 7pm \n35th Anniversary! \nDo the magic dance with the superstar who fell to earth in a beautifully twisted crystal-filled fantasy adventure concocted by Jim Henson. David Bowie is the dazzling dandy glam rock goblin who challenges a young Sarah (Jennifer Connelly) to a sprawling quest. Can Sarah save her baby brother from the twisted turns of a prismatic maze before time runs out? The fanciful and fiendish film brings the masquerade the breathtaking Hollywood Forever Cemetery. Pack a picnic\, or make your night scrumptious with food\, beer\, and wine from our grill and bar!
URL:https://hollywoodforever.com/event/labyrinth-2/
LOCATION:Hollywood Forever\, 6000 Santa Monica Blvd\, Los Angeles\, CA\, 90038\, United States
ATTACH;FMTTYPE=image/jpeg:https://hollywoodforever.com/wp-content/uploads/2021/09/LB_tf.jpg
END:VEVENT
BEGIN:VEVENT
DTSTART;TZID=America/Los_Angeles:20211015T170000
DTEND;TZID=America/Los_Angeles:20211015T210000
DTSTAMP:20260424T211444
CREATED:20211006T042645Z
LAST-MODIFIED:20211006T042645Z
UID:71671-1634317200-1634331600@hollywoodforever.com
SUMMARY:I KNOW WHAT YOU DID LAST SUMMER: MOVIE + SERIES SPECIAL SCREENING
DESCRIPTION:Directed by Jim Gillespie (1997\, 101 minutes)\nHollywood Forever Cemetery /\ngates at 5pm / movie at 7:15pm \nMake Amazon Prime Video your haunt for Halloween with the Now Screaming Collection\, featuring new and classic content to make the witching hour last all month long. Browse the portal here\, featuring original programming such as The Voyeurs\, Black As Night\, and Madres (premiering 10/8). \nIn celebration\, Cinespia and Prime Video invite you to a special FREE screening of the brand new Amazon Original series I Know What You Did Last Summer\, as well as the original movie! Halloween Party like it’s 1997 with the one that started them all about the one (killer) who got away\, followed by the new Amazon Original series – an updated take about a group of teenagers bound together by a dark secret and stalked by a brutal killer. It’s a night of tricks and shrieks with horror perfection on the big screen\, free giveaways\, and multiple exclusive treats that will have you screaming with joy. Get hooked in our Free Photo Booth while DJ sets unleash a night of savage fun. What are you waiting for?! Huh?! \nI Know What You Did Last Summer the series will be available October 15\, 2021 on Prime Video. \nNOTE: This screening is free (first-come\, first-served). Your ticket does not guarantee you a seat. Please arrive early for admittance.
URL:https://hollywoodforever.com/event/i-know-what-you-did-last-summer-movie-series-special-screening/
LOCATION:Hollywood Forever\, 6000 Santa Monica Blvd\, Los Angeles\, CA\, 90038\, United States
ATTACH;FMTTYPE=image/png:https://hollywoodforever.com/wp-content/uploads/2021/10/ikwydls_tf2.png
END:VEVENT
BEGIN:VEVENT
DTSTART;TZID=America/Los_Angeles:20211016T171500
DTEND;TZID=America/Los_Angeles:20211016T210000
DTSTAMP:20260424T211444
CREATED:20210917T054907Z
LAST-MODIFIED:20210917T055629Z
UID:70720-1634404500-1634418000@hollywoodforever.com
SUMMARY:Blade
DESCRIPTION:Directed by Stephen Norrington (1998\, 120 minutes)\nHollywood Forever Cemetery / $22\nGates 5:15pm / Movie 7pm \nIt’s glory over gory when a semi-immortal vampire tries to purge his urge for blood while avenging his mother’s death. Can Blade (Wesley Snipes) stop ultra-chic blood freaks from unleashing havoc on the human race? Never mind garlic and stakes: martial arts and jaw-clenching action makes the film fierce fun that slays the vampire movie genre. Sink your teeth into treats and eats at our grill and concessions stand. Quench your thirst for beer and wine at our bar while DJ sets slay the night.
URL:https://hollywoodforever.com/event/blade/
LOCATION:Hollywood Forever\, 6000 Santa Monica Blvd\, Los Angeles\, CA\, 90038\, United States
ATTACH;FMTTYPE=image/jpeg:https://hollywoodforever.com/wp-content/uploads/2021/09/bladeeeee.jpg
END:VEVENT
BEGIN:VEVENT
DTSTART;TZID=America/Los_Angeles:20211023T171500
DTEND;TZID=America/Los_Angeles:20211023T213000
DTSTAMP:20260424T211444
CREATED:20210917T055110Z
LAST-MODIFIED:20210917T055701Z
UID:70724-1635009300-1635024600@hollywoodforever.com
SUMMARY:The Shining
DESCRIPTION:Directed by Stanley Kubrick (1980\, 146min)\nHollywood Forever Cemetery / $22\nGates 5:15pm / Movie 7pm \nFather doesn’t know best when a dad with writer’s block puts family first to haunt and hunt. Here’s Johnny with an ax to grind. Stanley Kubrick’s masterpiece takes Jack Nicholson through a maze of wicked and wild terrors when a hotel getaway becomes a real nightmare. Can mother Shelley Duvall and psychically gifted son escape a delirious rampage? Or will trouble have them all seeing double? The Overlook Hotel never looked so good with our frightfully imaginative Free Photo booth. No need to dive into a labyrinth: our concessions and bar are easy to find. Visit our bar for beer and wine. Sorry\, no red rum.
URL:https://hollywoodforever.com/event/the-shining/
LOCATION:Hollywood Forever\, 6000 Santa Monica Blvd\, Los Angeles\, CA\, 90038\, United States
ATTACH;FMTTYPE=image/jpeg:https://hollywoodforever.com/wp-content/uploads/2021/09/SH_tf.jpg
END:VEVENT
BEGIN:VEVENT
DTSTART;TZID=America/Los_Angeles:20211030T090000
DTEND;TZID=America/Los_Angeles:20211030T235900
DTSTAMP:20260424T211444
CREATED:20210726T201908Z
LAST-MODIFIED:20211030T145855Z
UID:68998-1635584400-1635638340@hollywoodforever.com
SUMMARY:SOLD OUT - DIA Y NOCHE DE LOS MUERTOS
DESCRIPTION:THESE EVENTS ARE SOLD OUT\nNO TICKETS AT THE GATE \nThe 22nd Annual Día de los Muertos festival at Hollywood Forever returns on October 30th 2021 featuring separate daytime and evening events. \n“Dia de los Muertos” & “Noche de los Muertos”\nwill be two separate ticketed events\, one daytime and one evening\, allowing guests to experience a more intimate look at this year’s theme\nTHE RETURN OF QUETZALCOATL\nEL REGRESO DE QUETZALCOATL  \nFrom the flames of death and destruction we look to the Quetzal bird\, the phoenix of the Americas\, rising from the ashes\, reborn. \nAdorned in the feathers of the Quetzal we welcome the Return of Quetzalcoatl\, the plumed serpent\, ancient God of the Mayans and Aztecs\, Priest King\, Lord of the Winds and the Harvest Maize – that seed of civilizations – and the One God who descends into the underworld and resurrects humankind with his own blood. \nWith his wise old face wreathed in brilliant feathers he tells us\, “I am Quetzalcoatl\, the Morning Star. Every morning\, I lead the Sun back out of Mictlán to be reborn with the dawn. I know the way out of the Land of Death and will guide us back.” \nFriar Diego de Duran believed Quetzalcoatl was the traveling Apostle St. Thomas after the crucifixion. The Church of Jesus Christ of the Latter-Day Saints claimed that he was their Savior in the Americas. \nOur finely feathered serpent is a Universal Divine symbol for all those who crave resurrection. \nTogether\, we witness the Rebirth of the Phoenix Quetzal. \nTogether\, we invoke the Return of Quetzalcoatl. \nTICKETS FOR THE DAYTIME EVENT DIA DE LOS MUERTOS ARE SOLD OUT – NO TICKETS AT THE GATE \nTICKETS FOR THE NIGHTTIME EVENT NOCHE DE LOS MUERTOS ARE SOLD OUT – NO TICKETS AT THE GATE \nPLEASE NOTE: Our All Souls Mass and Procession – Forever Luz – will still occur. This event is for property owners and their families. Please contact your counselor or our reception for more information.
URL:https://hollywoodforever.com/event/dia-de-los-muertos-2/
LOCATION:Hollywood Forever\, 6000 Santa Monica Blvd\, Los Angeles\, CA\, 90038\, United States
ATTACH;FMTTYPE=image/jpeg:https://hollywoodforever.com/wp-content/uploads/2021/07/DDDLMSlider_Announce_4.jpg
END:VEVENT
END:VCALENDAR