BEGIN:VCALENDAR
VERSION:2.0
PRODID:-//Hollywood Forever - ECPv6.15.20//NONSGML v1.0//EN
CALSCALE:GREGORIAN
METHOD:PUBLISH
X-ORIGINAL-URL:https://hollywoodforever.com
X-WR-CALDESC:Events for Hollywood Forever
REFRESH-INTERVAL;VALUE=DURATION:PT1H
X-Robots-Tag:noindex
X-PUBLISHED-TTL:PT1H
BEGIN:VTIMEZONE
TZID:America/Los_Angeles
BEGIN:DAYLIGHT
TZOFFSETFROM:-0800
TZOFFSETTO:-0700
TZNAME:PDT
DTSTART:20200308T100000
END:DAYLIGHT
BEGIN:STANDARD
TZOFFSETFROM:-0700
TZOFFSETTO:-0800
TZNAME:PST
DTSTART:20201101T090000
END:STANDARD
BEGIN:DAYLIGHT
TZOFFSETFROM:-0800
TZOFFSETTO:-0700
TZNAME:PDT
DTSTART:20210314T100000
END:DAYLIGHT
BEGIN:STANDARD
TZOFFSETFROM:-0700
TZOFFSETTO:-0800
TZNAME:PST
DTSTART:20211107T090000
END:STANDARD
BEGIN:DAYLIGHT
TZOFFSETFROM:-0800
TZOFFSETTO:-0700
TZNAME:PDT
DTSTART:20220313T100000
END:DAYLIGHT
BEGIN:STANDARD
TZOFFSETFROM:-0700
TZOFFSETTO:-0800
TZNAME:PST
DTSTART:20221106T090000
END:STANDARD
END:VTIMEZONE
BEGIN:VEVENT
DTSTART;TZID=America/Los_Angeles:20210613T180000
DTEND;TZID=America/Los_Angeles:20210613T223000
DTSTAMP:20260425T042930
CREATED:20210601T180252Z
LAST-MODIFIED:20210601T180252Z
UID:66994-1623607200-1623623400@hollywoodforever.com
SUMMARY:PRIVATE EVENT
DESCRIPTION:
URL:https://hollywoodforever.com/event/private-event-2/
LOCATION:Hollywood Forever\, 6000 Santa Monica Blvd\, Los Angeles\, CA\, 90038\, United States
END:VEVENT
BEGIN:VEVENT
DTSTART;TZID=America/Los_Angeles:20210626T191500
DTEND;TZID=America/Los_Angeles:20210626T230000
DTSTAMP:20260425T042930
CREATED:20210611T235939Z
LAST-MODIFIED:20210614T223005Z
UID:67048-1624734900-1624748400@hollywoodforever.com
SUMMARY:The Adventures of Priscilla\, Queen of the Desert – L.A. PRIDE
DESCRIPTION:Directed by Stephan Elliot (1994\, 104 minutes)\nHollywood Forever Cemetery / $22\nGates – 7:15pm / Movie – 9pm \nCelebrate Pride in person again \nThe Party Bus is waiting for a faaaaaaabulous ride! An unlikely trio of drag performers and a trans woman take an exuberant\, uplifting journey in a dazzling bus named Priscilla. Can they help let love into the lives of the merry and the wary? The kaleidoscopic celebration goes down under and back with a soundtrack of shimmering glimmering hits. Dress to express and gather your dear ones and darlings for our free themed photo booth. Run wild on our dream-come-true dance floor for a return to the fantastical. Pack a party picnic with beer and wine\, or visit our concessions stand and bar.
URL:https://hollywoodforever.com/event/the-adventures-of-priscilla-queen-of-the-desert-l-a-pride/
LOCATION:Hollywood Forever\, 6000 Santa Monica Blvd\, Los Angeles\, CA\, 90038\, United States
ATTACH;FMTTYPE=image/jpeg:https://hollywoodforever.com/wp-content/uploads/2021/06/priscilla-main.jpg
END:VEVENT
BEGIN:VEVENT
DTSTART;TZID=America/Los_Angeles:20210627T180000
DTEND;TZID=America/Los_Angeles:20210627T210000
DTSTAMP:20260425T042930
CREATED:20210601T180951Z
LAST-MODIFIED:20210601T180951Z
UID:66996-1624816800-1624827600@hollywoodforever.com
SUMMARY:Pride Picnic
DESCRIPTION:Join your LGBTQ+ community at the Los Angeles LGBT Center’s PRIDE PICNIC on the historic Fairbanks Lawn at Hollywood Forever.
URL:https://hollywoodforever.com/event/pride-picnic/
LOCATION:Hollywood Forever\, 6000 Santa Monica Blvd\, Los Angeles\, CA\, 90038\, United States
ATTACH;FMTTYPE=image/png:https://hollywoodforever.com/wp-content/uploads/2021/06/DV21_Pride_Picnic_Eventbrite_Header_2160x1080_FINAL.png
END:VEVENT
BEGIN:VEVENT
DTSTART;TZID=America/Los_Angeles:20210629T200000
DTEND;TZID=America/Los_Angeles:20210629T213000
DTSTAMP:20260425T042930
CREATED:20210625T211506Z
LAST-MODIFIED:20210625T211544Z
UID:68242-1624996800-1625002200@hollywoodforever.com
SUMMARY:Ramy Youssef
DESCRIPTION:Ramy Youssef\n7pm DOORS\n8pm SHOW \nPARKING IS FREE ONSITE \nFREE ONSITE PARKING OPENS 1 HOUR BEFORE DOORS
URL:https://hollywoodforever.com/event/ramy-youssef/
LOCATION:The Masonic Lodge at Hollywood Forever\, 5970 Santa Monica Blvd\, Los Angeles\, CA\, 90038\, United States
ATTACH;FMTTYPE=image/jpeg:https://hollywoodforever.com/wp-content/uploads/2021/06/Ramy-Youssef-Image-for-Masonic.jpg
END:VEVENT
END:VCALENDAR